BEGIN:VCALENDAR
VERSION:2.0
PRODID:-//ChamberMaster//Event Calendar 2.0//EN
METHOD:PUBLISH
X-PUBLISHED-TTL:P3D
REFRESH-INTERVAL:P3D
CALSCALE:GREGORIAN
BEGIN:VEVENT
DTSTART;VALUE=DATE:20250531
DTEND;VALUE=DATE:20250601
TRANSP:TRANSPARENT
X-MICROSOFT-CDO-ALLDAYEVENT:TRUE
SUMMARY:Dustin Berger Memorial ATV/UTV Ride
DESCRIPTION:12th Annual Dustin Berger Memorial Ride
X-ALT-DESC;FMTTYPE=text/html:<strong><span style="font-size: 18px\;">12th Annual Dustin Berger Memorial Ride</span></strong>
LOCATION:American Legion | Norwood\, NY
UID:e.2288.20043
SEQUENCE:3
DTSTAMP:20260421T074420Z
URL:http://visitstl-gzcms.preview.gochambermaster.com/events/details/dustin-berger-memorial-atv-utv-ride-20043
END:VEVENT

END:VCALENDAR
