BEGIN:VCALENDAR
VERSION:2.0
PRODID:-//ChamberMaster//Event Calendar 2.0//EN
METHOD:PUBLISH
X-PUBLISHED-TTL:P3D
REFRESH-INTERVAL:P3D
CALSCALE:GREGORIAN
BEGIN:VEVENT
DTSTART:20240330T140000Z
DTEND:20240330T200000Z
X-MICROSOFT-CDO-ALLDAYEVENT:FALSE
SUMMARY:Easter Egg Hunt
DESCRIPTION:EASTER EGG HUNT\n\n\n\nThe K-Stone Acreage and Rescue will be hosting an easter egg hunt. The Blue Heron Realty from Ogdensburg will be donating a bike to the winner of Easter Egg Hunt. All eggs are numbered at 1:00pm we will pull a number out of a basket whoever has that egg number wins the bike!
X-ALT-DESC;FMTTYPE=text/html:<span style="font-size:20px\;"><strong>EASTER EGG HUNT</strong></span><br />\n<br />\nThe K-Stone Acreage and Rescue will be hosting an easter egg hunt. The Blue Heron Realty from Ogdensburg will be donating a bike to the winner of Easter Egg Hunt. All eggs are numbered at 1:00pm we will pull a number out of a basket whoever has that egg number wins the bike!
LOCATION:K-Stone Acreage and Rescue 505 Keystone Rd\, Lisbon\, NY 13658
UID:e.2288.17509
SEQUENCE:3
DTSTAMP:20260422T034802Z
URL:http://visitstl-gzcms.preview.gochambermaster.com/events/details/easter-egg-hunt-17509
END:VEVENT

END:VCALENDAR
