BEGIN:VCALENDAR
VERSION:2.0
PRODID:-//ChamberMaster//Event Calendar 2.0//EN
METHOD:PUBLISH
X-PUBLISHED-TTL:P3D
REFRESH-INTERVAL:P3D
CALSCALE:GREGORIAN
BEGIN:VEVENT
DTSTART:20240327T210000Z
DTEND:20240327T210000Z
X-MICROSOFT-CDO-ALLDAYEVENT:FALSE
SUMMARY:Eclipse Pinhole Camara Workshop
DESCRIPTION:ECLIPSE PINHOLE CAMARA WORKSHOP\n\n\n\nThe Ogdensburg Public Library will be hosting a pinhole-making workshop \n\nfor the solar eclipse? This activity is designed for ages 5 and older.
X-ALT-DESC;FMTTYPE=text/html:<span style="font-size:20px\;"><strong>ECLIPSE PINHOLE CAMARA WORKSHOP</strong></span><br />\n<br />\nThe Ogdensburg Public Library will be hosting a pinhole-making workshop&nbsp\;<br />\nfor the solar eclipse? This activity is designed for ages 5 and older.&nbsp\;
LOCATION:Ogdensburg Public Library 312 Washington St\, Ogdensburg\, NY 13669
UID:e.2288.16906
SEQUENCE:3
DTSTAMP:20260422T034801Z
URL:http://visitstl-gzcms.preview.gochambermaster.com/events/details/eclipse-pinhole-camara-workshop-16906
END:VEVENT

END:VCALENDAR
