BEGIN:VCALENDAR
VERSION:2.0
PRODID:-//ChamberMaster//Event Calendar 2.0//EN
METHOD:PUBLISH
X-PUBLISHED-TTL:P3D
REFRESH-INTERVAL:P3D
CALSCALE:GREGORIAN
BEGIN:VEVENT
DTSTART;VALUE=DATE:20240203
DTEND;VALUE=DATE:20240204
TRANSP:TRANSPARENT
X-MICROSOFT-CDO-ALLDAYEVENT:TRUE
SUMMARY:Edwards Snowmobile Club Fun Run
DESCRIPTION:EDWARDS SNOWMOBILE CLUB FUN RUN\n\nSave the date! The Edwards Snowmobile Club will be hosting a Snowmobile Fun Run on Saturday\, February 3rd. Event details TBD.
X-ALT-DESC;FMTTYPE=text/html:<strong><span style="font-size:20px\;">EDWARDS SNOWMOBILE CLUB FUN RUN</span></strong><br />\nSave the date! The Edwards Snowmobile Club will be hosting a Snowmobile Fun Run on Saturday\, February 3rd. Event details TBD.
LOCATION:Edwards\, NY
UID:e.2288.16377
SEQUENCE:3
DTSTAMP:20260422T121045Z
URL:http://visitstl-gzcms.preview.gochambermaster.com/events/details/edwards-snowmobile-club-fun-run-16377
END:VEVENT

END:VCALENDAR
