BEGIN:VCALENDAR
VERSION:2.0
PRODID:-//ChamberMaster//Event Calendar 2.0//EN
METHOD:PUBLISH
X-PUBLISHED-TTL:P3D
REFRESH-INTERVAL:P3D
CALSCALE:GREGORIAN
BEGIN:VEVENT
DTSTART:20251025T120000Z
DTEND:20251025T143000Z
X-MICROSOFT-CDO-ALLDAYEVENT:FALSE
SUMMARY:Eradicate Polio Walk
DESCRIPTION:Eradicate Polio Walk\n\nRotary Clubs from across the North Country are joining together to hose a walk in support of Rotary Internation's global mission to eradicate polio. The walk is organized by the Rotary Clubs of Potsdam\, Canton\, Ogdensburg\, Massena\, Malone and Chateaugay.\n\n\n\nThe walk will step off at 9 am following opening remarks from Rotary leaders who will share the impact of Rotary's long-standing commitment to ending polio. Rotarians invite individuals\, families\, students\, and community groups to participate in this inspiring event. Together\, each walker is part of a global movement to make history. Follow the NCNY Rotary Facebook Page for more details.
X-ALT-DESC;FMTTYPE=text/html:<span style="font-size:18px\;"><strong>Eradicate Polio Walk</strong></span><br />\nRotary Clubs from across the North Country are joining together to hose a walk in support of Rotary Internation&#39\;s global mission to eradicate polio. The walk is organized by the Rotary Clubs of Potsdam\, Canton\, Ogdensburg\, Massena\, Malone and Chateaugay.<br />\n<br />\nThe walk will step off at 9 am following opening remarks from Rotary leaders who will share the impact of Rotary&#39\;s long-standing commitment to ending polio. Rotarians invite individuals\, families\, students\, and community groups to participate in this inspiring event. Together\, each walker is part of a global movement to make history. Follow the <a href="http://facebook.com/rotary.ncny" target="_blank">NCNY Rotary Facebook Page</a> for more details.
LOCATION:Potsdam High School on Stevie's Trail 29 Leroy St. | Potsdam\, NY
UID:e.2288.20626
SEQUENCE:3
DTSTAMP:20260420T180659Z
URL:http://visitstl-gzcms.preview.gochambermaster.com/events/details/eradicate-polio-walk-20626
END:VEVENT

END:VCALENDAR
