BEGIN:VCALENDAR
VERSION:2.0
PRODID:-//ChamberMaster//Event Calendar 2.0//EN
METHOD:PUBLISH
X-PUBLISHED-TTL:P3D
REFRESH-INTERVAL:P3D
CALSCALE:GREGORIAN
BEGIN:VEVENT
DTSTART:20210414T223000Z
DTEND:20210415T000000Z
X-MICROSOFT-CDO-ALLDAYEVENT:FALSE
SUMMARY:The Lives of Amish Women Q&A with Karen Johnson-Weiner
DESCRIPTION:Canton author and renowned expert on the Amish\, Dr. Karen Johnson-Weiner\, draws on her 35 years of fieldwork in Amish communities and her correspondence with Amish women to consider how religiously defined roles of Amish women have changed - in particular\, looking at women's lives and activities at different ages and in different communities.  \n\nWe have invited Dr. Johnson-Weiner to join us for a discussion about the lives of Amish women.  There will be a brief introduction\, followed by an audience-led Q&A. If you would like to read The Lives of Amish Women before this event\, you can purchase it here.  You are also welcome to come with whatever questions you have without reading the book in advance.\n\nZoom registration here.
X-ALT-DESC;FMTTYPE=text/html:<p><span style="background-color:transparent\; color:rgb(0\, 0\, 0)\; font-family:arial\; font-size:11pt">Canton author and renowned expert on the Amish\, Dr. Karen Johnson-Weiner\, draws on her 35 years of fieldwork in Amish communities and her correspondence with Amish women to consider how religiously defined roles of Amish women have changed - in particular\, looking at women&rsquo\;s lives and activities at different ages and in different communities.&nbsp\;&nbsp\;</span></p>\n\n<p><span style="background-color:transparent\; color:rgb(0\, 0\, 0)\; font-family:arial\; font-size:11pt">We have invited Dr. Johnson-Weiner to join us for a discussion about the lives of Amish women.&nbsp\; There will be a brief introduction\, followed by an audience-led Q&amp\;A. If you would like to read The Lives of Amish Women before this event\, you can purchase it </span><a href="https://tauny-folkstore.myshopify.com/collections/books/products/lives-of-amish-women-karen-johnson-werner-canton-ny" style="text-decoration-line: none\;"><span style="background-color:transparent\; color:rgb(17\, 85\, 204)\; font-family:arial\; font-size:11pt">here</span></a><span style="background-color:transparent\; color:rgb(0\, 0\, 0)\; font-family:arial\; font-size:11pt">.&nbsp\; You are also welcome to come with whatever questions you have without reading the book in advance.</span></p>\n\n<p><span style="background-color:transparent\; color:rgb(0\, 0\, 0)\; font-family:arial\; font-size:11pt">Zoom registration </span><a href="https://zoom.us/meeting/register/tJMsdOygpzwpHdLCdcJJuVhKrhtlX69LbTcj" style="text-decoration-line: none\;"><span style="background-color:transparent\; color:rgb(17\, 85\, 204)\; font-family:arial\; font-size:11pt">here</span></a><span style="background-color:transparent\; color:rgb(0\, 0\, 0)\; font-family:arial\; font-size:11pt">.</span></p>\n\n<div>&nbsp\;</div>\n\n<div>&nbsp\;</div>\n
LOCATION:Online
UID:e.2288.10277
SEQUENCE:3
DTSTAMP:20260422T155727Z
URL:http://visitstl-gzcms.preview.gochambermaster.com/events/details/folk-arts-all-around-us-exhibition-virtual-event-a-discussion-with-curator-todd-degarmo-10277
END:VEVENT

END:VCALENDAR
