BEGIN:VCALENDAR
VERSION:2.0
PRODID:-//ChamberMaster//Event Calendar 2.0//EN
METHOD:PUBLISH
X-PUBLISHED-TTL:P3D
REFRESH-INTERVAL:P3D
CALSCALE:GREGORIAN
BEGIN:VEVENT
DTSTART:20240312T223000Z
DTEND:20240312T233000Z
X-MICROSOFT-CDO-ALLDAYEVENT:FALSE
SUMMARY:Foster Care Information Night
DESCRIPTION:FOSTER CARE INFORMATION NIGHT\n\nJoin the Children's Home of Jefferson County in making a difference! Ever wondered how you can be a beacon of hope and change a life? Here's your chance to learn\, contribute\, and be part of something truly special! Educate yourself about the incredible work being done to make a positive impact on lives. Spread the word far and wide\, because together\, our collective voice is a force for good! For those feeling an extra special calling\, consider becoming a treatment parent. It's an opportunity to open your heart and home to a youth in need\, providing love and support that can transform a life. Join forces\, learn\, share\, and be the change we wish to see in the world. Together with CHJC\, you can create a brighter\, more compassionate future! Come with any and all questions you have about fostering!
X-ALT-DESC;FMTTYPE=text/html:<strong><span style="font-size:20px\;">FOSTER CARE INFORMATION NIGHT</span></strong><br />\nJoin the Children&#39\;s Home of&nbsp\;Jefferson County&nbsp\;in making a difference! Ever wondered how you can be a beacon of hope and change a life? Here&#39\;s your chance to learn\, contribute\, and be part of something truly special! Educate yourself about the incredible work being done to make a positive impact on lives. Spread the word far and wide\, because together\, our collective voice is a force for good! For those feeling an extra special calling\, consider becoming a treatment parent. It&#39\;s an opportunity to open your heart and home to a youth in need\, providing love and support that can transform a life. Join forces\, learn\, share\, and be the change we wish to see in the world. Together with CHJC\, you can create a brighter\, more compassionate future! Come with any and all questions you have about fostering!
LOCATION:Zoom (link here)
UID:e.2288.16743
SEQUENCE:3
DTSTAMP:20260422T020017Z
URL:http://visitstl-gzcms.preview.gochambermaster.com/events/details/foster-care-information-night-16743
END:VEVENT

END:VCALENDAR
