BEGIN:VCALENDAR
VERSION:2.0
PRODID:-//ChamberMaster//Event Calendar 2.0//EN
METHOD:PUBLISH
X-PUBLISHED-TTL:P3D
REFRESH-INTERVAL:P3D
CALSCALE:GREGORIAN
BEGIN:VEVENT
DTSTART:20220715T160000Z
DTEND:20220716T020000Z
X-MICROSOFT-CDO-ALLDAYEVENT:FALSE
SUMMARY:Friday Nights in The Falls
DESCRIPTION:Friday Nights in The Falls - Concert Series July 15 = Pat Duffy & Parker's Chuck Wagon July 22 = Rob Larrabee & Tabs Grill & Cantina August 5 = David Wells & Nibbles Snackery August 12 = Whiskey & Wine & Morgans Munchies (5pm Corn-hole Registration\, 6pm Bags Fly!) [Silent Auction\, 50/50's\, Craft Vendors\, Food Sales ?& Concessions]
X-ALT-DESC;FMTTYPE=text/html:Friday Nights in The Falls - Concert Series July 15 = Pat Duffy &amp\; Parker&#39\;s Chuck Wagon July 22 = Rob Larrabee &amp\; Tabs Grill &amp\; Cantina August 5 = David Wells &amp\; Nibbles Snackery August 12 = Whiskey &amp\; Wine &amp\; Morgans Munchies (5pm Corn-hole Registration\, 6pm Bags Fly!) [Silent Auction\, 50/50&#39\;s\, Craft Vendors\, Food Sales ?&amp\; Concessions]
LOCATION:Pioneer Park in Rensselaer Falls\, NY Canton Street and Rensselaer Street across from Bowhall's Market.
UID:e.2288.11159
SEQUENCE:3
DTSTAMP:20260420T203529Z
URL:http://visitstl-gzcms.preview.gochambermaster.com/events/details/friday-nights-in-the-falls-07-15-2022-11159
END:VEVENT

END:VCALENDAR
