BEGIN:VCALENDAR
VERSION:2.0
PRODID:-//ChamberMaster//Event Calendar 2.0//EN
METHOD:PUBLISH
X-PUBLISHED-TTL:P3D
REFRESH-INTERVAL:P3D
CALSCALE:GREGORIAN
BEGIN:VEVENT
DTSTART:20211216T230000Z
DTEND:20211217T000000Z
X-MICROSOFT-CDO-ALLDAYEVENT:FALSE
SUMMARY:Fruit Curds & Bars Online Class
DESCRIPTION:While lemon bars are the most well-know version\, fruit curds can be make with a whole range of fruits available in northern New York. Tune into this live online class to learn about these methods from Rose Rivezzi of Big Spoon Kitchen. The class will be filmed live from the Harvest Kitchen. If you register ahead of time you will receive the recipe and have the choice to make it with us in real-time from the comfort of your own home!
X-ALT-DESC;FMTTYPE=text/html:While lemon bars are the most well-know version\, fruit curds can be make with a whole range of fruits available in northern New York. Tune into this live online class to learn about these methods from Rose Rivezzi of Big Spoon Kitchen. The class will be filmed live from the Harvest Kitchen. If you register ahead of time you will receive the recipe and have the choice to make it with us in real-time from the comfort of your own home!
LOCATION:The class will take place on Zoom and all registrants will receive the recipes and workshop recording.
UID:e.2288.10839
SEQUENCE:3
DTSTAMP:20260421T065226Z
URL:http://visitstl-gzcms.preview.gochambermaster.com/events/details/fruit-curds-bars-online-class-10839
END:VEVENT

END:VCALENDAR
