BEGIN:VCALENDAR
VERSION:2.0
PRODID:-//ChamberMaster//Event Calendar 2.0//EN
METHOD:PUBLISH
X-PUBLISHED-TTL:P3D
REFRESH-INTERVAL:P3D
CALSCALE:GREGORIAN
BEGIN:VEVENT
DTSTART:20250913T150000Z
DTEND:20250913T200000Z
X-MICROSOFT-CDO-ALLDAYEVENT:FALSE
SUMMARY:FSLH Golf Outing
DESCRIPTION:FSLH Golf Outing\n\nFriends of St. Lawrence Hockey is sponsoring a Golf Outing at Partridge Run Golf and Country Club in Canton. Play a round with one of our student athletes and support SLU Hockey! We are a 501 (c)3 non-profit organization which supports our Skating Saints Men's and Women's Hockey Programs at St. Lawrence University. We are a membership organization and sponsor several events annually that generate financial and fan support for the teams.
X-ALT-DESC;FMTTYPE=text/html:<span style="font-size:18px\;"><strong>FSLH Golf Outing</strong></span><br />\nFriends of St. Lawrence Hockey is sponsoring a Golf Outing at Partridge Run Golf and Country Club in Canton. Play a round with one of our student athletes and support SLU Hockey! We are a 501 (c)3 non-profit organization which supports our Skating Saints Men&#39\;s and Women&#39\;s Hockey Programs at St. Lawrence University. We are a membership organization and sponsor several events annually that generate financial and fan support for the teams.
LOCATION:Partridge Run Golf and Country Club 70 Sullivan Drive | Canton\, NY 13617
UID:e.2288.20427
SEQUENCE:3
DTSTAMP:20260421T013620Z
URL:http://visitstl-gzcms.preview.gochambermaster.com/events/details/fslh-golf-outing-20427
END:VEVENT

END:VCALENDAR
