BEGIN:VCALENDAR
VERSION:2.0
PRODID:-//ChamberMaster//Event Calendar 2.0//EN
METHOD:PUBLISH
X-PUBLISHED-TTL:P3D
REFRESH-INTERVAL:P3D
CALSCALE:GREGORIAN
BEGIN:VEVENT
DTSTART:20250802T130000Z
DTEND:20250802T210000Z
X-MICROSOFT-CDO-ALLDAYEVENT:FALSE
SUMMARY:GHA Golf Tournament
DESCRIPTION:Gouverneur Hospital Auxiliary Annual Golf Tournament\n\n	Captain and Crew format\n	$500 Hole-In-One Gift Card \n	RSVP by July 24\, 2025
X-ALT-DESC;FMTTYPE=text/html:<span style="font-size:18px\;"><strong>Gouverneur Hospital Auxiliary Annual Golf Tournament</strong></span>\n<ul>\n	<li>Captain and Crew format</li>\n	<li>$500 Hole-In-One Gift Card&nbsp\;</li>\n	<li>RSVP by July 24\, 2025</li>\n</ul>\n
LOCATION:Emerald Greens Golf Course 1485 US Highway 11 | Gouverneur\, NY 13642
UID:e.2288.20486
SEQUENCE:3
DTSTAMP:20260421T043649Z
URL:http://visitstl-gzcms.preview.gochambermaster.com/events/details/gha-golf-tournament-20486
END:VEVENT

END:VCALENDAR
