BEGIN:VCALENDAR
VERSION:2.0
PRODID:-//ChamberMaster//Event Calendar 2.0//EN
METHOD:PUBLISH
X-PUBLISHED-TTL:P3D
REFRESH-INTERVAL:P3D
CALSCALE:GREGORIAN
BEGIN:VEVENT
DTSTART:20191206T230000Z
DTEND:20191207T013000Z
X-MICROSOFT-CDO-ALLDAYEVENT:FALSE
SUMMARY:Gouverneur Christmas Parade
DESCRIPTION:5:30 line up for participants\, 6:00 parade starts. Santa will greet the children in the park after the parade. Free refreshments served in the Methodist Church basement and horse drawn wagon rides around the Savings & Loan. Please visit our webpage for more info: gouverneurchamber.net or call 315 287-0331
X-ALT-DESC;FMTTYPE=text/html:5:30 line up for participants\, 6:00 parade starts. Santa will greet the children in the park after the parade. Free refreshments served in the Methodist Church basement and horse drawn wagon rides around the Savings &amp\; Loan. Please visit our webpage for more info: gouverneurchamber.net or call 315 287-0331
LOCATION:Main Street\, Gouverneur
UID:e.2288.8712
SEQUENCE:3
DTSTAMP:20260425T114615Z
URL:http://visitstl-gzcms.preview.gochambermaster.com/events/details/gouverneur-christmas-parade-8712
END:VEVENT

END:VCALENDAR
