BEGIN:VCALENDAR
VERSION:2.0
PRODID:-//ChamberMaster//Event Calendar 2.0//EN
METHOD:PUBLISH
X-PUBLISHED-TTL:P3D
REFRESH-INTERVAL:P3D
CALSCALE:GREGORIAN
BEGIN:VEVENT
DTSTART:20250913T150000Z
DTEND:20250913T170000Z
X-MICROSOFT-CDO-ALLDAYEVENT:FALSE
SUMMARY:Gouverneur Hospital Auxiliary 75th Anniversary Celebration
DESCRIPTION:Gouverneur Hospital Auxiliary \n\n75th Anniversary Celebration\n\n\n\nJoin Gouverneur Hospital Auxiliary on September 13\, 2025 at Gouverneur Community Center to help their Diamond Jubilee. Highlights of their accomplishments and light refreshments will be provided.
X-ALT-DESC;FMTTYPE=text/html:<strong><span style="font-size:18px\;">Gouverneur Hospital Auxiliary </span></strong><br />\n<span style="font-size:18px\;">75th Anniversary Celebration</span><br />\n<br />\nJoin Gouverneur Hospital Auxiliary on September 13\, 2025 at Gouverneur Community Center to help their Diamond Jubilee. Highlights of their accomplishments and light refreshments will be provided.&nbsp\;
LOCATION:Gouverneur Community Center
UID:e.2288.20551
SEQUENCE:3
DTSTAMP:20260420T195146Z
URL:http://visitstl-gzcms.preview.gochambermaster.com/events/details/gouverneur-hospital-auxiliary-75th-anniversary-celebration-20551
END:VEVENT

END:VCALENDAR
