BEGIN:VCALENDAR
VERSION:2.0
PRODID:-//ChamberMaster//Event Calendar 2.0//EN
METHOD:PUBLISH
X-PUBLISHED-TTL:P3D
REFRESH-INTERVAL:P3D
CALSCALE:GREGORIAN
BEGIN:VEVENT
DTSTART;VALUE=DATE:20240730
DTEND;VALUE=DATE:20240805
TRANSP:TRANSPARENT
X-MICROSOFT-CDO-ALLDAYEVENT:TRUE
SUMMARY:Gouverneur & St. Lawrence County Fair
DESCRIPTION:The 165th Annual Gouverneur Fair and the 172st Annual St. Lawrence County Fair will take place at the Gouverneur Fair Grounds on Tuesday\, July 30 through Sunday\, August 4\, 2024. The Fair features fun for the entire family including: a carnival\, live music\, a demolition derby\, horse and pig races\, food\, games\, rides\, plenty of livestock competitions\, agricultural history of the area\, and so much more! The Fair will have a soft opening on Tuesday\, July 30 at 4:00pm and carnival rides will open on Wednesday\, July 31 at 2:00pm.\n\n\n\n2024 SPECIAL EVENTS AT THE GRANDSTAND\n\nTuesday\, July 30:\n\n	6:30pm: Talent Show\n\nWednesday\, July 31:\n\n\n	1:30pm: Band Day Parade\n	7:00pm: Fireman's Parade\n\nThursday\, August 1:\n\n\n	12:00pm: NY Sire Stakes - Harness Racing\n	7:00pm: Performance by Buckshot (Free Concert)\n	The evening will have a festive atmosphere with lots of dancing\, and a chance to win some great local prizes!\n\nFriday\, August 2:\n\n\n	6:00pm: New York Hot Farm Pulling Series featuring Tractors\, Tickets $15 \n\nSaturday\, August 3:\n\n\n	7:00pm: David Lee Murphy and LOCASH Concert *FEATURED EVENT* (see below for details and tickets)\n\nSunday\, August 4:\n\n\n	12:00pm: Demolition Derby\, Tickets $15\n\n*No strollers are permitted in the Grandstand.\n\n\n\n  CHECK BACK HERE for the full 2024 FAIR SCHEDULE! \n\n\n\nDAILY GROUND ACTS\n\nDaily ground acts are free entertainment for the entire family all week! Returning are Rosaire's Royal Racers (pigs) and Eudora Farms with some of the world's most fascinating animals.\n\n\n\nEXHIBITORS\n\nSt. Lawrence County's agricultural community will feature: cattle\, sheep\, poultry and horses that exhibitors bring to the fair for competition. The Youth Building\, FFA Barn and Show Ring will be in full swing with many 4-H and FFA members. Many exhibitors go on to state and national competitions!\n\n\n\nFEATURED DAVID LEE MURPHY & LOCASH CONCERT\n\nThe Fair will have a double-header headline concert featuring Country Artists David Lee Murphy and LOCASH on Saturday\, August 3\, 7:00 pm at the grandstand. Reserved seating tickets are $70 (Section B). General Admission Tickets are $50 (Infield: bring your own chair or blanket). Click HERE to purchase tickets or call the Fair Office at 315-287-3010. Leave a message and a Fair Contact will return your call.\n\n\n\nFirst on the grandstand stage will be American Country Music Singer-Songwriter David Lee Murphy\, best known for his #1 country hits "Dust on the Bottle" and "Everything's Gonna Be Alright"\, as well as the hit songs "Party Crowd"\, "Out with a Bang"\, "Every Time I Get Around You"\, "The Road You Leave Behind"\, and "Loco." He has released five solo studio albums: Out with a Bang (1994)\, Gettin' Out the Good Stuff (1996)\, We Can't All Be Angels (1997)\, Tryin' to Get There (2004)\, and No Zip Code (2018). His songs "Just Once" and "We Can't All Be Angels" appeared on the soundtracks of the films 8 Seconds (1994) and Black Dog (1998)\, respectively. Murphy took a hiatus from recording in 2004\, and has co-written several singles for other artists\, including the hits "Living in Fast Forward" for Kenny Chesney\, "Anywhere With You" for Jake Owen\, "Big Green Tractor" for Jason Aldean\, and "Are You Gonna Kiss Me or Not" for Thompson Square. On April 6\, 2018\, Murphy and Kenny Chesney released a studio album together\, No Zip Code\, which features their hit song "Everything's Gonna Be Alright".\n\n\n\nNext on the grandstand stage will be the Country Music Duo\, LOCASH. Named "country music's iconic feel-good duo" by PEOPLE\, LOCASH   Preston Brust and Chris Lucas   are adding a new dimension to their hit making career with the launch of their own record label   Galaxy Label Group. With distribution by BBR Music Group/BMG Nashville\, LOCASH will continue "hitting homers and serving up first-class songs\," as hailed by American Songwriter. With fresh music expected to release in spring\, this new era follows back-to-back high-profile collaborations "Let It Slide" (Leslie Jordan\, Blanco Brown\, LOCASH) and "Beach Boys" (feat. The Beach Boys' Mike Love and Bruce Johnston). LOCASH is known for Platinum breakout "I Love This Life" and Gold #1's "One Big Country Song" and "I Know Somebody." LOCASH has earned eight charting singles\, two successful albums\, nearly 800 million global streams\, and holds a history of nods from the genre's biggest awards shows since launching in 2015.\n\n\n\nPARTICIPATION OPPORTUNITIES\n\nDemolition Derby\n\nEmployment\n\nNY Hot Farm Pulling Series\n\nVolunteer\n\nSponsorship Opportunities\, Talent Show & Vendors: Check the Fair's Official Website for Details & Updates
X-ALT-DESC;FMTTYPE=text/html:The&nbsp\;<strong><span style="color:rgb(0\, 128\, 0)">165th Annual Gouverneur Fair and the 172st Annual St. Lawrence County Fair&nbsp\;</span></strong>will take place at the Gouverneur Fair Grounds on Tuesday\, July 30 through Sunday\, August 4\, 2024. The Fair features fun for the entire family including: a carnival\, live music\, a demolition derby\, horse and pig races\, food\, games\, rides\, plenty of livestock competitions\, agricultural history of the area\, and so much more!&nbsp\;<strong>The Fair will have a soft opening on Tuesday\, July 30 at 4:00pm and carnival rides will open on Wednesday\, July 31 at 2:00pm.</strong><br />\n<br />\n<span style="font-size:18px"><span style="color:rgb(0\, 128\, 0)"><u><strong>2024 SPECIAL EVENTS AT THE GRANDSTAND</strong></u></span></span><br />\n<strong>Tuesday\, July 30:</strong>\n<ul>\n	<li>6:30pm: Talent Show</li>\n</ul>\n<strong>Wednesday\, July 31:</strong>\n\n<ul>\n	<li>1:30pm: Band Day Parade</li>\n	<li>7:00pm: Fireman&#39\;s Parade</li>\n</ul>\n<strong>Thursday\, August 1:</strong>\n\n<ul>\n	<li>12:00pm: <a href="https://www.nysirestakes.com/" target="_blank">NY Sire Stakes</a> - Harness Racing</li>\n	<li>7:00pm:&nbsp\;Performance by <a href="https://www.facebook.com/buckshotvb">Buckshot</a> (Free Concert)</li>\n	<li>The evening will have a festive atmosphere with lots of dancing\, and a chance to win some great local prizes!</li>\n</ul>\n<strong>Friday\, August 2:</strong>\n\n<ul>\n	<li>6:00pm:&nbsp\;<a href="https://nyhotfarm.com/" target="_blank">New York Hot Farm Pulling Series</a>&nbsp\;featuring Tractors\, Tickets&nbsp\;$15&nbsp\;</li>\n</ul>\n<strong>Saturday\, August 3:</strong>\n\n<ul>\n	<li>7:00pm: <a href="https://www.davidlee.com/" target="_blank">David Lee Murphy</a> and <a href="https://www.locash.com/" target="_blank">LOCASH</a>&nbsp\;Concert *FEATURED EVENT*&nbsp\;<em>(see below for details and tickets)</em></li>\n</ul>\n<strong>Sunday\, August 4:</strong>\n\n<ul>\n	<li>12:00pm:&nbsp\;<a href="http://www.gouverneurfair.net/events/demolition-derby" target="_blank">Demolition Derby</a>\,&nbsp\;Tickets $15</li>\n</ul>\n<em>*No strollers are permitted in the Grandstand.</em><br />\n<br />\n<span style="color: rgb(0\, 0\, 0)\; font-family: roboto\, sans-serif\; font-size: 24px\;">&#127914\;&nbsp\;</span><span style="font-size:18px"><strong><span style="color:#ff3366">CHECK BACK HERE for the full 2024 FAIR SCHEDULE!</span>&nbsp\;</strong></span>\n\n<p><br />\n<span style="color:#008000\;"><u><strong>DAILY GROUND ACTS</strong></u></span><br />\nDaily ground acts are free entertainment for the entire family all week!&nbsp\;Returning are&nbsp\;<a href="https://www.rrracers.com/" target="_blank"><strong>Rosaire&#39\;s Royal Racers</strong></a>&nbsp\;(pigs) and&nbsp\;<a href="https://eudorafarms.net/" target="_blank"><strong>Eudora Farms</strong></a>&nbsp\;with some of the world&#39\;s most fascinating animals.<br />\n<br />\n<u><span style="color: rgb(0\, 128\, 0)\;"><strong>EXHIBITORS</strong></span></u><br />\nSt. Lawrence County&#39\;s agricultural community will feature: cattle\, sheep\, poultry and horses that exhibitors bring to the fair for competition. The Youth Building\, FFA Barn and Show Ring will be in full swing with many 4-H and FFA members. Many exhibitors go on to state and national competitions!<br />\n<br />\n<span style="color:#008000\;"><u><strong>FEATURED DAVID LEE MURPHY &amp\; LOCASH CONCERT</strong></u></span><br />\nThe Fair will have a <u>double-header headline concert</u> featuring Country Artists David Lee Murphy and LOCASH on Saturday\, August 3\, 7:00 pm&nbsp\;at the grandstand.&nbsp\;Reserved seating tickets are $70 (Section B). General Admission Tickets are $50 (Infield: bring your own chair or blanket). Click&nbsp\;<strong><a href="https://www.etix.com/ticket/p/48942050/locash-and-david-lee-murphy-gouverneur-gouverneur-stlawrence-county-fairgrounds" target="_blank">HERE</a></strong>&nbsp\;to purchase tickets or call the Fair Office at 315-287-3010. Leave a message and a Fair Contact will return your call.<br />\n<br />\nFirst on the grandstand stage will be American Country Music Singer-Songwriter <strong><a href="http://www.davidlee.com/" target="_blank">David Lee Murphy</a></strong>\, best known for his #1 country hits &quot\;Dust on the Bottle&quot\; and &quot\;Everything&#39\;s Gonna Be Alright&quot\;\, as well as the hit songs &quot\;Party Crowd&quot\;\, &quot\;Out with a Bang&quot\;\, &quot\;Every Time I Get Around You&quot\;\, &quot\;The Road You Leave Behind&quot\;\, and &quot\;Loco.&quot\; He has released five solo studio albums: Out with a Bang (1994)\, Gettin&#39\; Out the Good Stuff (1996)\, We Can&#39\;t All Be Angels (1997)\, Tryin&#39\; to Get There (2004)\, and No Zip Code (2018). His songs &quot\;Just Once&quot\; and &quot\;We Can&#39\;t All Be Angels&quot\; appeared on the soundtracks of the films 8 Seconds (1994) and Black Dog (1998)\, respectively. Murphy took a hiatus from recording in 2004\, and has co-written several singles for other artists\, including the hits &quot\;Living in Fast Forward&quot\; for Kenny Chesney\, &quot\;Anywhere With You&quot\; for Jake Owen\, &quot\;Big Green Tractor&quot\; for Jason Aldean\, and &quot\;Are You Gonna Kiss Me or Not&quot\; for Thompson Square. On April 6\, 2018\, Murphy and Kenny Chesney released a studio album together\, No Zip Code\, which features their hit song &quot\;Everything&#39\;s Gonna Be Alright&quot\;.<br />\n<br />\nNext on the grandstand stage will be the Country Music Duo\, <strong><a href="http://www.locash.com/" target="_blank">LOCASH</a></strong>. Named &ldquo\;country music&rsquo\;s iconic feel-good duo&rdquo\; by PEOPLE\, LOCASH &ndash\; Preston Brust and Chris Lucas &ndash\; are adding a new dimension to their hit making career with the launch of their own record label &ndash\; Galaxy Label Group. With distribution by BBR Music Group/BMG Nashville\, LOCASH will continue &ldquo\;hitting homers and serving up first-class songs\,&rdquo\; as hailed by American Songwriter. With fresh music expected to release in spring\, this new era follows back-to-back high-profile collaborations &ldquo\;Let It Slide&rdquo\; (Leslie Jordan\, Blanco Brown\, LOCASH) and &ldquo\;Beach Boys&rdquo\; (feat. The Beach Boys&rsquo\; Mike Love and Bruce Johnston). LOCASH is known for Platinum breakout &ldquo\;I Love This Life&rdquo\; and Gold #1&rsquo\;s &ldquo\;One Big Country Song&rdquo\; and &ldquo\;I Know Somebody.&rdquo\; LOCASH has earned eight charting singles\, two successful albums\, nearly 800 million global streams\, and holds a history of nods from the genre&rsquo\;s biggest awards shows since launching in 2015.<br />\n<br />\n<u><span style="color:rgb(0\, 128\, 0)"><strong>PARTICIPATION OPPORTUNITIES</strong></span></u><br />\n<a href="http://chrome-extension://efaidnbmnnnibpcajpcglclefindmkaj/https://www.gouverneurfair.net/images/DemoDerbyRules2024.pdf" target="_blank">Demolition Derby</a><br />\n<a href="http://chrome-extension://efaidnbmnnnibpcajpcglclefindmkaj/https://gouverneurfair.net/images/Docs/Employment_App.pdf" target="_blank">Employment</a><br />\n<a href="https://nyhotfarm.com/" target="_blank">NY Hot Farm Pulling Series</a><br />\n<a href="mailto:gouverneurfair@outlook.com">Volunteer</a><br />\n<em>Sponsorship Opportunities\, Talent Show &amp\; Vendors:&nbsp\;Check the Fair&#39\;s&nbsp\;Official Website for Details &amp\; Updates</em></p>\n
LOCATION:Gouverneur County Fairgrounds 85 E Barney Street Gouverneur\, NY
UID:e.2288.17845
SEQUENCE:3
DTSTAMP:20260422T020226Z
URL:http://visitstl-gzcms.preview.gochambermaster.com/events/details/gouverneur-st-lawrence-county-fair-07-30-2023-17845
END:VEVENT

END:VCALENDAR
