BEGIN:VCALENDAR
VERSION:2.0
PRODID:-//ChamberMaster//Event Calendar 2.0//EN
METHOD:PUBLISH
X-PUBLISHED-TTL:P3D
REFRESH-INTERVAL:P3D
CALSCALE:GREGORIAN
BEGIN:VEVENT
DTSTART;VALUE=DATE:20250729
DTEND;VALUE=DATE:20250803
TRANSP:TRANSPARENT
X-MICROSOFT-CDO-ALLDAYEVENT:TRUE
SUMMARY:Gouverneur & St. Lawrence County Fair
DESCRIPTION:Gouverneur & St. Lawrence County Fair\n\nAn action-packed week kicks off with a Firemen's Parade\, then the fun continues with midway rides\, concessions\, agricultural exhibits\, harness racing\, tractor pulling\, a demolition derby\, and live performances from the Amish Outlaws\, Randy Houser\, the Andy Rotz Wild West Show\, and more!
X-ALT-DESC;FMTTYPE=text/html:<span style="font-size:18px\;"><strong>Gouverneur &amp\; St. Lawrence County Fair</strong></span><br />\nAn action-packed week kicks off with a Firemen&rsquo\;s Parade\, then the fun continues with midway rides\, concessions\, agricultural exhibits\, harness racing\, tractor pulling\, a demolition derby\, and live performances from the Amish Outlaws\, Randy Houser\, the Andy Rotz Wild West Show\, and more!
LOCATION:Gouverneur County Fairgrounds 85 E Barney Street | Gouverneur\, NY 13642
UID:e.2288.20441
SEQUENCE:3
DTSTAMP:20260421T001429Z
URL:http://visitstl-gzcms.preview.gochambermaster.com/events/details/gouverneur-st-lawrence-county-fair-20441
END:VEVENT

END:VCALENDAR
