BEGIN:VCALENDAR
VERSION:2.0
PRODID:-//ChamberMaster//Event Calendar 2.0//EN
METHOD:PUBLISH
X-PUBLISHED-TTL:P3D
REFRESH-INTERVAL:P3D
CALSCALE:GREGORIAN
BEGIN:VEVENT
DTSTART;VALUE=DATE:20220609
DTEND;VALUE=DATE:20220610
TRANSP:TRANSPARENT
X-MICROSOFT-CDO-ALLDAYEVENT:TRUE
SUMMARY:Greater Massena Chamber Of Commerce Golf Tournament
DESCRIPTION:We are excited to announce the return of our four-person scramble June 9th and even more excited to have Mr. Vic Perry back to help us run it. This tournament will provide an event where our friends and co-workers come together for a great day of golf while helping the Chamber of Commerce raise money to fund the 62nd Annual Concerts in the Park this summer\, as well as save toward some needed building repairs at our 16 Church Street office and conference hall.
X-ALT-DESC;FMTTYPE=text/html:We are excited to announce the return of our four-person scramble June 9th and even more excited to have Mr. Vic Perry back to help us run it. This tournament will provide an event where our friends and co-workers come together for a great day of golf while helping the Chamber of Commerce raise money to fund the 62nd Annual Concerts in the Park this summer\, as well as save toward some needed building repairs at our 16 Church Street office and conference hall.
LOCATION:The River Course at Louisville Landing
UID:e.2288.11028
SEQUENCE:3
DTSTAMP:20260420T190552Z
URL:http://visitstl-gzcms.preview.gochambermaster.com/events/details/greater-massena-chamber-of-commerce-golf-tournament-11028
END:VEVENT

END:VCALENDAR
