BEGIN:VCALENDAR
VERSION:2.0
PRODID:-//ChamberMaster//Event Calendar 2.0//EN
METHOD:PUBLISH
X-PUBLISHED-TTL:P3D
REFRESH-INTERVAL:P3D
CALSCALE:GREGORIAN
BEGIN:VEVENT
DTSTART:20210924T220000Z
DTEND:20210924T230000Z
X-MICROSOFT-CDO-ALLDAYEVENT:FALSE
SUMMARY:Gregory Fedchak: The Paintings\, A Retrospective
DESCRIPTION:Virtual Opening Reception Beginning with the 2003 International Juried Art Exhibit\, Boonville\, NY artist Gregg Fedchak has been a regular participant in exhibitions here at the Remington Museum. Over the years\, Gregg's superb abstract paintings became a feature of the Museum's various juried art exhibitions. By 2013\, he served as the juror for the Museum's Members' Juried Art Exhibition\, a tribute to the quality of his own work. Those of you who follow Museum news may have seen that Gregg and his wife Elaine recently rewrote their wills\, leaving the majority of their estate to the Museum as an unrestricted bequest. The Fedchaks also donated Gregg's body of work to the Museum\, to be made available for purchase by collectors\, benefitting the Museum. The retrospective is an opportunity to celebrate Gregg's impressive collection of work as well as the Fedchaks' generous gift. Exhibit runs through January 9\, 2022
X-ALT-DESC;FMTTYPE=text/html:Virtual Opening Reception Beginning with the 2003 International Juried Art Exhibit\, Boonville\, NY artist Gregg Fedchak has been a regular participant in exhibitions here at the Remington Museum. Over the years\, Gregg&rsquo\;s superb abstract paintings became a feature of the Museum&rsquo\;s various juried art exhibitions. By 2013\, he served as the juror for the Museum&rsquo\;s Members&rsquo\; Juried Art Exhibition\, a tribute to the quality of his own work. Those of you who follow Museum news may have seen that Gregg and his wife Elaine recently rewrote their wills\, leaving the majority of their estate to the Museum as an unrestricted bequest. The Fedchaks also donated Gregg&rsquo\;s body of work to the Museum\, to be made available for purchase by collectors\, benefitting the Museum. The retrospective is an opportunity to celebrate Gregg&rsquo\;s impressive collection of work as well as the Fedchaks&rsquo\; generous gift. Exhibit runs through January 9\, 2022
LOCATION:
UID:e.2288.10726
SEQUENCE:3
DTSTAMP:20260421T213944Z
URL:http://visitstl-gzcms.preview.gochambermaster.com/events/details/gregory-fedchak-the-paintings-a-retrospective-10726
END:VEVENT

END:VCALENDAR
