BEGIN:VCALENDAR
VERSION:2.0
PRODID:-//ChamberMaster//Event Calendar 2.0//EN
METHOD:PUBLISH
X-PUBLISHED-TTL:P3D
REFRESH-INTERVAL:P3D
CALSCALE:GREGORIAN
BEGIN:VEVENT
DTSTART:20231029T170000Z
DTEND:20231029T210000Z
X-MICROSOFT-CDO-ALLDAYEVENT:FALSE
SUMMARY:Halloween Dance ft. Pure Country
DESCRIPTION:HALLOWEEN DANCE \n\nFEAT. PURE COUNTRY\n\nThe Heuvelton Amvets Post #1997 will be hosting a Halloween Dance featuring the band\, Pure Country. Enjoy food\, fun\, dancing and costume judging on Sunday\, Oct. 29th from 1-5pm.
X-ALT-DESC;FMTTYPE=text/html:<span style="color:#FF8C00\;"><span style="font-size:20px\;"><strong>HALLOWEEN DANCE&nbsp\;</strong><br />\nFEAT. PURE COUNTRY</span></span><br />\nThe Heuvelton Amvets Post #1997 will be hosting a Halloween Dance featuring the band\, Pure Country. Enjoy food\, fun\, dancing and costume judging&nbsp\;on Sunday\, Oct. 29th from 1-5pm.
LOCATION:Heuvelton Amvets Post #1997 107 State Street Heauvelton\, NY
UID:e.2288.15421
SEQUENCE:3
DTSTAMP:20260422T121134Z
URL:http://visitstl-gzcms.preview.gochambermaster.com/events/details/halloween-dance-ft-pure-country-15421
END:VEVENT

END:VCALENDAR
