BEGIN:VCALENDAR
VERSION:2.0
PRODID:-//ChamberMaster//Event Calendar 2.0//EN
METHOD:PUBLISH
X-PUBLISHED-TTL:P3D
REFRESH-INTERVAL:P3D
CALSCALE:GREGORIAN
BEGIN:VEVENT
DTSTART:20231023T220000Z
DTEND:20231023T233000Z
X-MICROSOFT-CDO-ALLDAYEVENT:FALSE
SUMMARY:Halloween Sugar Cookie Decorating Class
DESCRIPTION:HARDY'S HALLOWEEN SUGAR COOKIE DECORATING CLASS\n\nJoin Hardy's Bakery for a fun evening of Halloween themed sugar cookie decorating with buttercream frosting! The 90-minute class will take place at the Bakery on Wednesday\, October 23 beginning at 6:00pm. \n\n\n\n Each seat is $35 (one seat per person\, parents may assist a younger child if needed) . Seats are limited. REGISTER FOR THE CLASS HERE!\n\n\n\nEach person will receive:\n\n	12 Sugar Cookies\, 6 different shaped cut outs\n	6 colors of buttercream frosting\, all decorating supplies\n	Assorted Holiday Sprinkles\n	Instruction by Josie on buttercream frosting techniques\n	A gift box to take home your amazing creations\n\nHardy's Bakery is a bespoke bakery located in Massena\, NY\, specializing in custom cakes & cupcakes.
X-ALT-DESC;FMTTYPE=text/html:<span style="color:#FF8C00\;"><span style="font-size:20px\;"><strong>HARDY&#39\;S HALLOWEEN SUGAR COOKIE DECORATING CLASS</strong></span></span><br />\nJoin Hardy&#39\;s Bakery for a fun evening of Halloween themed sugar cookie decorating with buttercream frosting! The 90-minute class will take place at the Bakery on Wednesday\, October 23 beginning at 6:00pm.&nbsp\;<br />\n<br />\n&#8203\;Each seat is $35 (one seat per person\, parents may assist a younger child if needed)&#8203\;. Seats are limited.&nbsp\;<a href="https://www.facebook.com/events/926212485592803" target="_blank"><strong>REGISTER FOR THE CLASS HERE!</strong></a><br />\n<br />\n<strong>Each person will receive:</strong>\n<ul>\n	<li>12 Sugar Cookies\, 6 different shaped cut outs</li>\n	<li>6 colors of buttercream frosting\, all decorating supplies</li>\n	<li>Assorted Holiday Sprinkles</li>\n	<li>Instruction by Josie on buttercream frosting techniques</li>\n	<li>A gift box to take home your amazing creations</li>\n</ul>\n<em>Hardy&#39\;s Bakery is a bespoke bakery located in Massena\, NY\, specializing in custom cakes &amp\; cupcakes.</em>
LOCATION:Hardy's Bakery 116 N Main Street Massena\, NY
UID:e.2288.15851
SEQUENCE:3
DTSTAMP:20260422T115727Z
URL:http://visitstl-gzcms.preview.gochambermaster.com/events/details/halloween-sugar-cookie-decorating-class-15851
END:VEVENT

END:VCALENDAR
