BEGIN:VCALENDAR
VERSION:2.0
PRODID:-//ChamberMaster//Event Calendar 2.0//EN
METHOD:PUBLISH
X-PUBLISHED-TTL:P3D
REFRESH-INTERVAL:P3D
CALSCALE:GREGORIAN
BEGIN:VEVENT
DTSTART:20231020T230000Z
DTEND:20231021T020000Z
X-MICROSOFT-CDO-ALLDAYEVENT:FALSE
SUMMARY:Highway to Horror
DESCRIPTION:HIGHWAY TO HORROR\n\nOct. 13-14 | Oct. 20-21 | Oct. 27-28\n\nHighway To Horror\, a 20\,000-square-foot haunted walk thru attraction located at Massena's St. Lawrence Centre Mall in the old Bon Ton Store\, will be open Fridays and Saturdays in October.\n\n\n\nEvery year M.B.I. Entertainment runs the haunted attraction with a portion of the proceeds going to help a local organization. This year proceeds will help support Massena Little league.\n\n\n\nDoors open nightly at 7pm. with the last ticket being sold at 10pm.\n\n\n\nTickets are $15 dollars. A group discount rate will be offered for 10 or more people.\n\n\n\nFor more information or anyone interested in helping visit the event Facebook Page Highway To Horror.
X-ALT-DESC;FMTTYPE=text/html:<span style="color:#FF8C00\;"><span style="font-size:20px\;"><strong>HIGHWAY TO HORROR</strong><br />\nOct. 13-14 | Oct. 20-21 | Oct. 27-28</span></span><br />\nHighway To Horror\, a 20\,000-square-foot haunted walk thru attraction located at Massena&#39\;s St. Lawrence Centre Mall in the old Bon Ton Store\, will be open Fridays and Saturdays in October.<br />\n<br />\nEvery year M.B.I. Entertainment runs the haunted attraction with a portion of the proceeds going to help a local organization. This year proceeds will help support Massena Little league.<br />\n<br />\nDoors open nightly at 7pm. with the last ticket being sold at 10pm.<br />\n<br />\nTickets are $15 dollars. A group discount rate will be offered for 10 or more people.<br />\n<br />\nFor more information or anyone interested in helping visit the event <a href="https://www.facebook.com/groups/393353642128515" target="_blank">Facebook Page Highway To Horror</a>.
LOCATION:St. Lawrence Centre 6100 Mall Road Massena\, NY inside the former Bon Ton
UID:e.2288.15838
SEQUENCE:3
DTSTAMP:20260422T225328Z
URL:http://visitstl-gzcms.preview.gochambermaster.com/events/details/highway-to-horror-10-20-2023-15838
END:VEVENT

END:VCALENDAR
