BEGIN:VCALENDAR
VERSION:2.0
PRODID:-//ChamberMaster//Event Calendar 2.0//EN
METHOD:PUBLISH
X-PUBLISHED-TTL:P3D
REFRESH-INTERVAL:P3D
CALSCALE:GREGORIAN
BEGIN:VEVENT
DTSTART:20240720T233000Z
DTEND:20240721T020000Z
X-MICROSOFT-CDO-ALLDAYEVENT:FALSE
SUMMARY:Higley Fireworks Display
DESCRIPTION:Ice Cream Social And Fireworks Display put on by the Higley Association.
X-ALT-DESC;FMTTYPE=text/html:Ice Cream Social And Fireworks Display put on by the Higley Association.
LOCATION:Event will be at "Fireman's Field"\, at the junction of Gulf and Hanson Roads\, Colton\, NY
UID:e.2288.17971
SEQUENCE:3
DTSTAMP:20260422T015906Z
URL:http://visitstl-gzcms.preview.gochambermaster.com/events/details/higley-fireworks-display-17971
END:VEVENT

END:VCALENDAR
