BEGIN:VCALENDAR
VERSION:2.0
PRODID:-//ChamberMaster//Event Calendar 2.0//EN
METHOD:PUBLISH
X-PUBLISHED-TTL:P3D
REFRESH-INTERVAL:P3D
CALSCALE:GREGORIAN
BEGIN:VEVENT
DTSTART:20241214T150000Z
DTEND:20241214T210000Z
X-MICROSOFT-CDO-ALLDAYEVENT:FALSE
SUMMARY:Holiday Craft & Vendor Show at LCS
DESCRIPTION:3RD ANNUAL HOLIDAY CRAFT & VENDOR SHOW\n\nHOSTED BY: THE LCS DRAMA CLUB\n\nThe 3rd annual Holiday Craft & Vendor Show at Lisbon Central School will be held in conjunction with events planned for "Holiday in the Hamlet"\, on Saturday\, Dec. 14th from 10am - 4pm. More than 25 crafters & vendors will be selling items in the cafeteria surrounded by a festive atmosphere filled with holiday music\, caroling by the LCS Chorus\, children's activities and special guests(!). Gift wrapping services will be available for purchased items with an in kind donation.
X-ALT-DESC;FMTTYPE=text/html:<span style="font-size:20px\;"><span style="color:#FF0000\;"><strong>3RD ANNUAL HOLIDAY CRAFT &amp\; VENDOR SHOW</strong><br />\nHOSTED BY: THE LCS DRAMA CLUB</span></span><br />\nThe 3rd annual Holiday Craft &amp\; Vendor Show at Lisbon Central School will be held in conjunction with events planned for &quot\;Holiday in the Hamlet&quot\;\, on Saturday\, Dec. 14th from 10am - 4pm. More than 25 crafters &amp\; vendors will be selling items in the cafeteria surrounded by a festive atmosphere filled with holiday music\, caroling by the LCS Chorus\, children&#39\;s activities and special guests(!). Gift wrapping services will be available for purchased items with an in kind donation.&nbsp\;
LOCATION:Lisbon Central School: Cafeteria 6866 County Route 10 Lisbon\, NY
UID:e.2288.16323
SEQUENCE:3
DTSTAMP:20260422T065127Z
URL:http://visitstl-gzcms.preview.gochambermaster.com/events/details/holiday-craft-vendor-show-at-lcs-16323
END:VEVENT

END:VCALENDAR
