BEGIN:VCALENDAR
VERSION:2.0
PRODID:-//ChamberMaster//Event Calendar 2.0//EN
METHOD:PUBLISH
X-PUBLISHED-TTL:P3D
REFRESH-INTERVAL:P3D
CALSCALE:GREGORIAN
BEGIN:VEVENT
DTSTART;VALUE=DATE:20210605
DTEND;VALUE=DATE:20210607
TRANSP:TRANSPARENT
X-MICROSOFT-CDO-ALLDAYEVENT:TRUE
SUMMARY:Hopkinton Town-Wide Yard Sales
DESCRIPTION:Hopkinton\, Fort Jackson and Nicholville will be June 5 and 6.\n\nMaps will be in the Hopkinton Town Office.
X-ALT-DESC;FMTTYPE=text/html:<p style="box-sizing: border-box\; margin: 0px 0px 10px\; word-break: break-word\; width: unset\; float: none\; line-height: normal\; color: rgb(0\, 0\, 0)\; font-family: arial\, sans-serif\;">Hopkinton\, Fort Jackson and Nicholville will be June 5 and 6.</p>\n\n<p style="box-sizing: border-box\; margin: 0px 0px 10px\; word-break: break-word\; width: unset\; float: none\; line-height: normal\; color: rgb(0\, 0\, 0)\; font-family: arial\, sans-serif\;">Maps will be in the Hopkinton Town Office.</p>\n\n<div class="ad-container inner-page-ad-container " style="box-sizing: border-box\; float: right\; margin: 10px 0px 15px\; display: inline\; padding-left: 20px\; padding-top: 10px\; padding-bottom: 10px\; color: rgb(0\, 0\, 0)\; font-family: arial\, sans-serif\;">\n<div data-ad-unit-path="/1045456/300x250Innoppl-testing" data-fetch="false" data-glade="" height="250" style="box-sizing: border-box\;" width="300">\n<div>&nbsp\;</div>\n</div>\n</div>\n
LOCATION:
UID:e.2288.10455
SEQUENCE:3
DTSTAMP:20260422T033339Z
URL:http://visitstl-gzcms.preview.gochambermaster.com/events/details/hopkinton-town-wide-yard-sales-10455
END:VEVENT

END:VCALENDAR
