BEGIN:VCALENDAR
VERSION:2.0
PRODID:-//ChamberMaster//Event Calendar 2.0//EN
METHOD:PUBLISH
X-PUBLISHED-TTL:P3D
REFRESH-INTERVAL:P3D
CALSCALE:GREGORIAN
BEGIN:VEVENT
DTSTART:20250906T140000Z
DTEND:20250906T160000Z
X-MICROSOFT-CDO-ALLDAYEVENT:FALSE
SUMMARY:How to Create a Forest Garden Workshop
DESCRIPTION:How to Create a Forest Garden Workshop\n\nJoin author Dani Baker at St. Lawrence Nurseries in Potsdam for a talk on creating food forests\, plus a nursery tour with owners Allyssa and Connor Hardiman. Registration required\, visit link below to learn more or sign up.
X-ALT-DESC;FMTTYPE=text/html:<span style="font-size:18px\;"><strong>How to Create a Forest Garden Workshop</strong></span><br />\nJoin author Dani Baker at St. Lawrence Nurseries in Potsdam for a talk on creating food forests\, plus a nursery tour with owners Allyssa and Connor Hardiman. Registration required\, visit link below to learn more or sign up.
LOCATION:St. Lawrence Nurseries 6527 NY-56 | Potsdam\, NY 13676
UID:e.2288.20433
SEQUENCE:3
DTSTAMP:20260420T224239Z
URL:http://visitstl-gzcms.preview.gochambermaster.com/events/details/how-to-create-a-forest-garden-workshop-20433
END:VEVENT

END:VCALENDAR
