BEGIN:VCALENDAR
VERSION:2.0
PRODID:-//ChamberMaster//Event Calendar 2.0//EN
METHOD:PUBLISH
X-PUBLISHED-TTL:P3D
REFRESH-INTERVAL:P3D
CALSCALE:GREGORIAN
BEGIN:VEVENT
DTSTART:20240727T140000Z
DTEND:20240727T200000Z
X-MICROSOFT-CDO-ALLDAYEVENT:FALSE
SUMMARY:Hydroplane and Classic Car Show
DESCRIPTION:HYDROPLANE AND CLASSIC CAR SHOW\n\n\n\nThe Chippewa Bay Maritime Museum will be hosting their 3rd annual Hydroplane and Classic Car Show on Saturday\, July 27th from 10:00am - 4:00pm at the museum. The show features classic Hydroplanes that were raced by some of the areas best! Free pizza and ice cream will be available.\n\n\n\nThis year the museum is also opening a brand-new building called "Rowin' and Racin"!
X-ALT-DESC;FMTTYPE=text/html:<span style="font-size:20px\;"><strong>HYDROPLANE AND CLASSIC CAR SHOW</strong></span><br />\n<br />\nThe Chippewa Bay Maritime Museum will be hosting their 3rd annual Hydroplane and Classic Car Show on Saturday\, July 27th from 10:00am - 4:00pm at the museum. The show features classic Hydroplanes that were raced by some of the areas best! Free pizza and ice cream will be available.<br />\n<br />\nThis year the museum is also opening a brand-new building called &quot\;Rowin&#39\; and Racin&quot\;!&nbsp\;
LOCATION:Chippewa Bay Maritime Museum 4 Church Street Alexandria Bay\, NY
UID:e.2288.18461
SEQUENCE:3
DTSTAMP:20260422T070222Z
URL:http://visitstl-gzcms.preview.gochambermaster.com/events/details/hydroplane-and-classic-car-show-18461
END:VEVENT

END:VCALENDAR
