BEGIN:VCALENDAR
VERSION:2.0
PRODID:-//ChamberMaster//Event Calendar 2.0//EN
METHOD:PUBLISH
X-PUBLISHED-TTL:P3D
REFRESH-INTERVAL:P3D
CALSCALE:GREGORIAN
BEGIN:VEVENT
DTSTART:20240308T160000Z
DTEND:20240308T200000Z
X-MICROSOFT-CDO-ALLDAYEVENT:FALSE
SUMMARY:It's All About Art Exhibit
DESCRIPTION:IT'S ALL ABOUT ART\n\nEXHIBIT\n\nMarch 1 through March 30 ? Thursdays\, Fridays\, & Saturdays ? 11:00am to 3:00pm - ?It?s All About Art? Exhibit - Weaver Susan Riley will be the featured artist at The Gallery at Lake Saint Lawrence Arts at 14 Main Street in Waddington. She will be showing many examples of her weaving techniques from scarves to sculpture. Susan is a master weaver and very enthusiastic about her art. She is a member of the Gallery and the Thousand Islands Handweavers Museum in Clayton. She will be available to discuss and demonstrate her art on March 1 and March 23 at the Gallery.
X-ALT-DESC;FMTTYPE=text/html:<span style="font-size:20px\;"><strong>IT&#39\;S ALL ABOUT ART</strong><br />\nEXHIBIT</span><br />\nMarch 1 through March 30 ? Thursdays\, Fridays\, &amp\; Saturdays ? 11:00am to 3:00pm - ?It?s All About Art? Exhibit - Weaver Susan Riley will be the featured artist at The Gallery at Lake Saint Lawrence Arts at 14 Main Street in Waddington. She will be showing many examples of her weaving techniques from scarves to sculpture. Susan is a master weaver and very enthusiastic about her art. She is a member of the Gallery and the Thousand Islands Handweavers Museum in Clayton. She will be available to discuss and demonstrate her art on March 1 and March 23 at the Gallery.
LOCATION:The Gallery at Lake Saint Lawrence Arts 14 Main Street Waddington\, NY
UID:e.2288.16750
SEQUENCE:3
DTSTAMP:20260422T020226Z
URL:http://visitstl-gzcms.preview.gochambermaster.com/events/details/it-s-all-about-art-exhibit-03-08-2024-16750
END:VEVENT

END:VCALENDAR
