BEGIN:VCALENDAR
VERSION:2.0
PRODID:-//ChamberMaster//Event Calendar 2.0//EN
METHOD:PUBLISH
X-PUBLISHED-TTL:P3D
REFRESH-INTERVAL:P3D
CALSCALE:GREGORIAN
BEGIN:VEVENT
DTSTART:20251116T160000Z
DTEND:20251116T200000Z
X-MICROSOFT-CDO-ALLDAYEVENT:FALSE
SUMMARY:Jewish Food Festival
DESCRIPTION:Jewish Food Festival\n\nHosted by Congregation Beth El\n\n\n\nFeaturing:\n\n	Matzoh Ball Soup\n	Kugel\n	Bagels\n	Falafel\n	Blintzes\n	Potato Latkes\n	Baked Goods\n	Bread Sale\n	Gifts\n	Raffle & More!
X-ALT-DESC;FMTTYPE=text/html:<span style="font-size:18px\;"><strong>Jewish Food Festival</strong></span><br />\nHosted by Congregation Beth El<br />\n<br />\n<em>Featuring:</em>\n<ul>\n	<li>Matzoh Ball Soup</li>\n	<li>Kugel</li>\n	<li>Bagels</li>\n	<li>Falafel</li>\n	<li>Blintzes</li>\n	<li>Potato Latkes</li>\n	<li>Baked Goods</li>\n	<li>Bread Sale</li>\n	<li>Gifts</li>\n	<li>Raffle &amp\; More!</li>\n</ul>\n
LOCATION:Congregation Beth El 84 Market Street | Potsdam\, NY
UID:e.2288.20666
SEQUENCE:3
DTSTAMP:20260420T151906Z
URL:http://visitstl-gzcms.preview.gochambermaster.com/events/details/jewish-food-festival-20666
END:VEVENT

END:VCALENDAR
