BEGIN:VCALENDAR
VERSION:2.0
PRODID:-//ChamberMaster//Event Calendar 2.0//EN
METHOD:PUBLISH
X-PUBLISHED-TTL:P3D
REFRESH-INTERVAL:P3D
CALSCALE:GREGORIAN
BEGIN:VEVENT
DTSTART:20230729T180000Z
DTEND:20230729T200000Z
X-MICROSOFT-CDO-ALLDAYEVENT:FALSE
SUMMARY:Knotty Paddy Performance
DESCRIPTION:Knotty Paddy will be performing at the Cranberry Lake Hub Building on Saturday\, July 29 at 2:00pm. Knotty Paddy is an Adirondack based\, 5-piece band specializing in Celtic Rock and Traditional Irish Music. Bring your chair or dock your boat!\n\n\n\nSponsored by Birch's Lakeside.
X-ALT-DESC;FMTTYPE=text/html:<strong>Knotty Paddy </strong>will be performing at the Cranberry Lake Hub Building on Saturday\, July 29 at 2:00pm. <a href="https://www.facebook.com/knottypaddy">Knotty Paddy</a> is an Adirondack based\, 5-piece band specializing in Celtic Rock and Traditional Irish Music. Bring your chair or dock your boat!<br />\n<br />\n<em>Sponsored by Birch&#39\;s Lakeside.</em>
LOCATION:Cranberry Lake Hub Building 7180 Route 3 Cranberry Lake\, NY 12927
UID:e.2288.14065
SEQUENCE:3
DTSTAMP:20260422T063925Z
URL:http://visitstl-gzcms.preview.gochambermaster.com/events/details/knotty-paddy-performance-14065
END:VEVENT

END:VCALENDAR
