BEGIN:VCALENDAR
VERSION:2.0
PRODID:-//ChamberMaster//Event Calendar 2.0//EN
METHOD:PUBLISH
X-PUBLISHED-TTL:P3D
REFRESH-INTERVAL:P3D
CALSCALE:GREGORIAN
BEGIN:VEVENT
DTSTART:20240320T223000Z
DTEND:20240321T003000Z
X-MICROSOFT-CDO-ALLDAYEVENT:FALSE
SUMMARY:Last Flight Home Film Screening
DESCRIPTION:LAST FLIGHT HOME\n\nFILM SCREENING\n\nThe Unitarian Universalist Church in Canton will host a Film Screening of the Last Flight Home on Wednesday\, March 20th from 6:30pm - 8:30pm. The film will be screened at the Unitarian Universalist Church of Canton located at 3 1/2 E. Main Street\, Canton. All are welcome to attend. There is parking at the back entrance of the church.\n\n\n\nAbout the Film:\n\nLast Flight Home is a film that explores death\, dignity\, choice\, compassion\, and love. Movie reviewers have called the award-winning documentary "Last Flight Home "a moving\, boundlessly humane documentary" about the final days of Eli Timoner's life once he chose to die\, at age 92\, under California's End of Life Option Act. The film explores one family's gathering to help their beloved patriarch exit the world with the same dignity with which he lived. The story is an enlightening\, often humorous\, view of the universal experience of death. Following the screening there will be small group discussion circles to share perspectives on the film and\, for those who wish\, to learn more about choices in end-of-life care. The film is offered in collaboration with Compassion & Choices\, a nonprofit organization that works in communities\, state legislatures\, Congress\, courts\, and medical settings to help to educate about and advocate for end-of-life options which will improve patient autonomy and individual choice at the end of life.
X-ALT-DESC;FMTTYPE=text/html:<span style="font-size:20px\;"><strong>LAST FLIGHT HOME</strong><br />\nFILM SCREENING</span><br />\nThe Unitarian Universalist Church in Canton will host a Film Screening of the Last Flight Home on Wednesday\, March 20th from 6:30pm - 8:30pm. The film will be screened at the Unitarian Universalist Church of Canton located at 3 1/2 E. Main Street\, Canton. All are welcome to attend. There is parking at the back entrance of the church.<br />\n<br />\n<strong>About the Film:</strong><br />\nLast Flight Home is a film that explores death\, dignity\, choice\, compassion\, and love. Movie reviewers have called the award-winning documentary &ldquo\;Last Flight Home &ldquo\;a moving\, boundlessly humane documentary&rdquo\; about the final days of Eli Timoner&rsquo\;s life once he chose to die\, at age 92\, under California&rsquo\;s End of Life Option Act. The film explores one family&rsquo\;s gathering to help their beloved patriarch exit the world with the same dignity with which he lived. The story is an enlightening\, often humorous\, view of the universal experience of death. Following the screening there will be small group discussion circles to share perspectives on the film and\, for those who wish\, to learn more about choices in end-of-life care. The film is offered in collaboration with Compassion &amp\; Choices\, a nonprofit organization that works in communities\, state legislatures\, Congress\, courts\, and medical settings to help to educate about and advocate for end-of-life options which will improve patient autonomy and individual choice at the end of life.&nbsp\;
LOCATION:Unitarian Universalist Church of Canton 3 1/2 E. Main Street Canton\, NY
UID:e.2288.16837
SEQUENCE:3
DTSTAMP:20260422T053709Z
URL:http://visitstl-gzcms.preview.gochambermaster.com/events/details/last-flight-home-film-screening-16837
END:VEVENT

END:VCALENDAR
