BEGIN:VCALENDAR
VERSION:2.0
PRODID:-//ChamberMaster//Event Calendar 2.0//EN
METHOD:PUBLISH
X-PUBLISHED-TTL:P3D
REFRESH-INTERVAL:P3D
CALSCALE:GREGORIAN
BEGIN:VEVENT
DTSTART:20240724T170000Z
DTEND:20240724T180000Z
X-MICROSOFT-CDO-ALLDAYEVENT:FALSE
SUMMARY:Lena The Lizard Lady
DESCRIPTION:LENA THE LIZARD LADY\n\n\n\nLena the Lizard Lady will be at the library to teach you about her animal friends. Open to all ages.
X-ALT-DESC;FMTTYPE=text/html:<span style="font-size:20px\;"><strong>LENA THE LIZARD LADY</strong></span><br />\n<br />\nLena the Lizard Lady will be at the library to teach you about her animal friends. Open to all ages.
LOCATION:Ogdensburg Public Library 312 Washington St\, Ogdensburg\, NY
UID:e.2288.17985
SEQUENCE:3
DTSTAMP:20260422T035930Z
URL:http://visitstl-gzcms.preview.gochambermaster.com/events/details/lena-the-lizard-lady-17985
END:VEVENT

END:VCALENDAR
