BEGIN:VCALENDAR
VERSION:2.0
PRODID:-//ChamberMaster//Event Calendar 2.0//EN
METHOD:PUBLISH
X-PUBLISHED-TTL:P3D
REFRESH-INTERVAL:P3D
CALSCALE:GREGORIAN
BEGIN:VEVENT
DTSTART:20251122T230000Z
DTEND:20251123T013000Z
X-MICROSOFT-CDO-ALLDAYEVENT:FALSE
SUMMARY:Light Up the Night Parade
DESCRIPTION:Light Up the Night Parade\n\nThe City of Ogdensburg\, along with the Lisbon and Ogdensburg Lions Clubs\, will host the annual Light Up the Night Santa Parade and Fireworks to kick off the holiday season in Ogdensburg\, NY.\n\n\n\nFeaturing a full lineup of colorfully lit floats\, this community favorite begins at 6 PM at Ogdensburg Free Academy (1100 State Street) and follows State Street to the Dobisky Visitor Center (100 Riverside Avenue).\n\n\n\nAfter the parade\, enjoy a visit with Santa\, Mrs. Claus\, and the Grinch at Ogdensburg's Dobisky Center\, followed by a fireworks display along the greenbelt by the St. Lawrence River.
X-ALT-DESC;FMTTYPE=text/html:<span style="font-size:18px\;"><strong>Light Up the Night Parade</strong></span><br />\nThe City of Ogdensburg\, along with the Lisbon and Ogdensburg Lions Clubs\, will host the annual Light Up the Night Santa Parade and Fireworks to kick off the holiday season in Ogdensburg\, NY.<br />\n<br />\nFeaturing a full lineup of colorfully lit floats\, this community favorite begins at 6 PM at Ogdensburg Free Academy (1100 State Street) and follows State Street to the Dobisky Visitor Center (100 Riverside Avenue).<br />\n<br />\nAfter the parade\, enjoy a visit with Santa\, Mrs. Claus\, and the Grinch at Ogdensburg&rsquo\;s Dobisky Center\, followed by a fireworks display along the greenbelt by the St. Lawrence River.
LOCATION:State Street | Ogdensburg\, NY View Parade Route
UID:e.2288.20654
SEQUENCE:3
DTSTAMP:20260420T211641Z
URL:http://visitstl-gzcms.preview.gochambermaster.com/events/details/light-up-the-night-parade-20654
END:VEVENT

END:VCALENDAR
