BEGIN:VCALENDAR
VERSION:2.0
PRODID:-//ChamberMaster//Event Calendar 2.0//EN
METHOD:PUBLISH
X-PUBLISHED-TTL:P3D
REFRESH-INTERVAL:P3D
CALSCALE:GREGORIAN
BEGIN:VEVENT
DTSTART:20210510T180000Z
DTEND:20210510T213000Z
X-MICROSOFT-CDO-ALLDAYEVENT:FALSE
SUMMARY:Living with Alzheimer’s for Caregivers-Middle Stage (Virtual)
DESCRIPTION:To register and for information go to Click Here
X-ALT-DESC;FMTTYPE=text/html:To register and for information go to&nbsp\;<a href="https://www.communityresourcefinder.org/ResourceView/Index?id=2145888&amp\;profileDefinitionId=93">Click Here</a>
LOCATION:
UID:e.2288.10376
SEQUENCE:3
DTSTAMP:20260422T070228Z
URL:http://visitstl-gzcms.preview.gochambermaster.com/events/details/living-with-alzheimer-s-for-caregivers-middle-stage-virtual-10376
END:VEVENT

END:VCALENDAR
