BEGIN:VCALENDAR
VERSION:2.0
PRODID:-//ChamberMaster//Event Calendar 2.0//EN
METHOD:PUBLISH
X-PUBLISHED-TTL:P3D
REFRESH-INTERVAL:P3D
CALSCALE:GREGORIAN
BEGIN:VEVENT
DTSTART;VALUE=DATE:20220729
DTEND;VALUE=DATE:20220801
TRANSP:TRANSPARENT
X-MICROSOFT-CDO-ALLDAYEVENT:TRUE
SUMMARY:Louisville Townwide Garage-Sale
DESCRIPTION:Come and find some great steals and deals at this town-wide garage sale located throughout the town of Louisville.
X-ALT-DESC;FMTTYPE=text/html:Come and find some great steals and deals at this town-wide garage sale located throughout the town of Louisville.&nbsp\;
LOCATION:Throughout the Town of Louisville\, map linked below.
UID:e.2288.11195
SEQUENCE:3
DTSTAMP:20260420T220333Z
URL:http://visitstl-gzcms.preview.gochambermaster.com/events/details/louisville-townwide-garage-sale-11195
END:VEVENT

END:VCALENDAR
