BEGIN:VCALENDAR
VERSION:2.0
PRODID:-//ChamberMaster//Event Calendar 2.0//EN
METHOD:PUBLISH
X-PUBLISHED-TTL:P3D
REFRESH-INTERVAL:P3D
CALSCALE:GREGORIAN
BEGIN:VEVENT
DTSTART:20220716T140000Z
DTEND:20220716T160000Z
X-MICROSOFT-CDO-ALLDAYEVENT:FALSE
SUMMARY:Louisville Turtle Trot Walk- Run
DESCRIPTION:The racecourse is a 3.4 mile flat\, fast\, scenic route along the beautiful St. Lawrence River. 10:00 AM Start time 8:30 AM Same-day registration Awards: Medals to 1st place male / female winners per age group. 15 and under\; 16-29\; 30-39\; 40-49\; 50-59\; 60-69\, & 70 + T-shirts to 1st 150 who register. Must pre-register by June 15th in order to guarantee t-shirt size. ALL PROCEEDS OF THE RACE TO GO TO LOUISVILLE VOLUNTEER FIRE DEPARTMENT
X-ALT-DESC;FMTTYPE=text/html:The racecourse is a 3.4 mile flat\, fast\, scenic route along the beautiful St. Lawrence River. 10:00 AM Start time 8:30 AM Same-day registration Awards: Medals to 1st place male / female winners per age group. 15 and under\; 16-29\; 30-39\; 40-49\; 50-59\; 60-69\, &amp\; 70 + T-shirts to 1st 150 who register. Must pre-register by June 15th in order to guarantee t-shirt size. ALL PROCEEDS OF THE RACE TO GO TO LOUISVILLE VOLUNTEER FIRE DEPARTMENT
LOCATION:Whalen Park\, Louisville\, NY
UID:e.2288.10887
SEQUENCE:3
DTSTAMP:20260420T214647Z
URL:http://visitstl-gzcms.preview.gochambermaster.com/events/details/louisville-turtle-trot-walk-run-10887
END:VEVENT

END:VCALENDAR
