BEGIN:VCALENDAR
VERSION:2.0
PRODID:-//ChamberMaster//Event Calendar 2.0//EN
METHOD:PUBLISH
X-PUBLISHED-TTL:P3D
REFRESH-INTERVAL:P3D
CALSCALE:GREGORIAN
BEGIN:VEVENT
DTSTART:20251105T170000Z
DTEND:20251105T180000Z
X-MICROSOFT-CDO-ALLDAYEVENT:FALSE
SUMMARY:Lunch & Learn Webinar: Getting Started with Associated Colleges Internships
DESCRIPTION:Representatives of the Career Services Offices at the Associated Colleges of the St. Lawrence Valley (SUNY Potsdam\, SUNY Canton\, Clarkson University\, and St. Lawrence University) will present on Getting Started with Associated Colleges Internships.\n\n \n\nDuring this session\, each college will present its internship opportunities\, showcasing the unique ways students can contribute to local businesses.\n\n\n\nThis webinar is provided as a partnership of the Associated Colleges of the St. Lawrence Valley\, St. Lawrence county Chamber of Commerce\, and Potsdam Chamber of Commerce.
X-ALT-DESC;FMTTYPE=text/html:Representatives of the Career Services Offices at the Associated Colleges of the St. Lawrence Valley (SUNY Potsdam\, SUNY Canton\, Clarkson University\, and St. Lawrence University)&nbsp\;will present on&nbsp\;Getting Started with Associated Colleges Internships.<br />\n&nbsp\;<br />\nDuring this session\, each college will present its internship opportunities\, showcasing the unique ways students can contribute to local businesses.<br />\n<br />\nThis webinar is provided as a partnership of the Associated Colleges of the St. Lawrence Valley\, St. Lawrence county Chamber of Commerce\, and Potsdam Chamber of Commerce.
LOCATION:This is a Zoom event.
UID:e.2288.20606
SEQUENCE:3
DTSTAMP:20260420T180701Z
URL:http://visitstl-gzcms.preview.gochambermaster.com/events/details/lunch-learn-webinar-getting-started-with-associated-colleges-internships-20606
END:VEVENT

END:VCALENDAR
