BEGIN:VCALENDAR
VERSION:2.0
PRODID:-//ChamberMaster//Event Calendar 2.0//EN
METHOD:PUBLISH
X-PUBLISHED-TTL:P3D
REFRESH-INTERVAL:P3D
CALSCALE:GREGORIAN
BEGIN:VEVENT
DTSTART:20231021T140000Z
DTEND:20231021T180000Z
X-MICROSOFT-CDO-ALLDAYEVENT:FALSE
SUMMARY:Make a Difference Day
DESCRIPTION:MAKE A DIFFERENCE DAY\n\nBY ST. LAWRENCE UNIVERSITY \n\nMake a Difference Day is an annual St. Lawrence University tradition where student volunteers take a day and volunteer in the local community. This may include elderly and high-needs homes\, but also include local businesses and organizations. The 2023 Make a Difference Day is scheduled for Saturday\, October 21 throughout the town of Canton.\n\n\n\nSLU student volunteers from various groups\, clubs\, and sports teams will offer to rake leaves\, weed gardens\, pick up trash\, and more throughout the community. Not only does this event lend a hand to people in the community who might need their services\, it also get students familiarized with the NoCo.\n\n\n\nIn need of helping hands for your yard work? Volunteers can help you with:\n\n	Raking Leaves\n	Weeding\n	Picking Up Sticks/Trash\n	Or any other activity that you may have in mind!\n\nREQUEST VOLUNTEER SERVICES\n\nSign up to schedule Helping Hands HERE!\n\n\n\nQUESTIONS? Email: volunteerservices@stlawu.edu\n\n\n\nCollaborating local organizations include: Volunteer Services\, Canton Chamber of Commerce\, Newman Club/St. Mary's Church and the Community Based Learning Office.
X-ALT-DESC;FMTTYPE=text/html:<strong><span style="font-size:20px\;">MAKE A DIFFERENCE DAY</span></strong><br />\n<span style="font-size:20px\;">BY ST. LAWRENCE UNIVERSITY&nbsp\;</span><br />\nMake a Difference Day is an annual St. Lawrence University tradition where student volunteers take a day and volunteer in the local community. This may include elderly and high-needs homes\, but also include local businesses and organizations. The 2023 Make a Difference Day is scheduled for Saturday\, October 21 throughout the town of Canton.<br />\n<br />\nSLU student volunteers from various groups\, clubs\, and sports teams will offer to rake leaves\, weed gardens\, pick up trash\, and more throughout the community. Not only does this event lend a hand to people in the community who might need their services\, it also get students familiarized with the NoCo.<br />\n<br />\n<strong>In need of helping hands for your yard work? Volunteers can help you with:</strong>\n<ul>\n	<li>Raking Leaves</li>\n	<li>Weeding</li>\n	<li>Picking Up Sticks/Trash</li>\n	<li><em>Or any other activity that you may have in mind!</em></li>\n</ul>\n<span style="font-size:16px\;"><strong><a href="http://docs.google.com/forms/d/e/1FAIpQLSc0CN_ymetGttzubZi4NBCJYjjtlfZwmVXvuYUwged6j3KrLA/viewform" target="_blank"><u><span style="color:#008000\;">REQUEST VOLUNTEER SERVICES</span></u></a><br />\n<a href="https://docs.google.com/forms/d/e/1FAIpQLSc0CN_ymetGttzubZi4NBCJYjjtlfZwmVXvuYUwged6j3KrLA/viewform" target="_blank">Sign up to schedule Helping Hands HERE!</a></strong></span><br />\n<br />\n<strong>QUESTIONS?&nbsp\;</strong>Email: <a href="mailto:volunteerservices@stlawu.edu">volunteerservices@stlawu.edu</a><br />\n<br />\n<em>Collaborating local organizations include: Volunteer Services\, Canton Chamber of Commerce\, Newman Club/St. Mary&rsquo\;s Church and the Community Based Learning Office.</em>
LOCATION:Canton\, NY Town-Wide
UID:e.2288.16303
SEQUENCE:3
DTSTAMP:20260422T182246Z
URL:http://visitstl-gzcms.preview.gochambermaster.com/events/details/make-a-difference-day-16303
END:VEVENT

END:VCALENDAR
