BEGIN:VCALENDAR
VERSION:2.0
PRODID:-//ChamberMaster//Event Calendar 2.0//EN
METHOD:PUBLISH
X-PUBLISHED-TTL:P3D
REFRESH-INTERVAL:P3D
CALSCALE:GREGORIAN
BEGIN:VEVENT
DTSTART:20190302T140000Z
DTEND:20190407T180000Z
X-MICROSOFT-CDO-ALLDAYEVENT:FALSE
SUMMARY:Make It Maple Pancake Breakfast
DESCRIPTION:Every Saturday and Sunday in March as well as the first weekend in April\, come enjoy our popular pancake and sausage breakfast! We also have waffles and French toast to choose from. Don't want breakfast? We will also have our maple hot dogs\, donuts\, sundaes and milkshakes available! Be sure to try one of our NEW flavored syrups! We have butter rum\, vanilla bean\, cinnamon\, rum and black walnut. For more information call 301.524.8628 or 315.353.2015.
X-ALT-DESC;FMTTYPE=text/html:Every Saturday and Sunday in March as well as the first weekend in April\, come enjoy our popular pancake and sausage breakfast! We also have waffles and French toast to choose from. Don&rsquo\;t want breakfast? We will also have our maple hot dogs\, donuts\, sundaes and milkshakes available! Be sure to try one of our NEW flavored syrups! We have butter rum\, vanilla bean\, cinnamon\, rum and black walnut. For more information call <span class="gc-cs-link" id="gc-number-0" title="Call with Google Voice">301.524.8628</span> or 315.353.2015.
LOCATION:529 Austin Ridge Rd. Norwood\, NY 13668
UID:e.2288.7968
SEQUENCE:3
DTSTAMP:20260426T013133Z
URL:http://visitstl-gzcms.preview.gochambermaster.com/events/details/make-it-maple-pancake-breakfast-7968
END:VEVENT

END:VCALENDAR
