BEGIN:VCALENDAR
VERSION:2.0
PRODID:-//ChamberMaster//Event Calendar 2.0//EN
METHOD:PUBLISH
X-PUBLISHED-TTL:P3D
REFRESH-INTERVAL:P3D
CALSCALE:GREGORIAN
BEGIN:VEVENT
DTSTART:20211206T230000Z
DTEND:20211207T000000Z
X-MICROSOFT-CDO-ALLDAYEVENT:FALSE
SUMMARY:Making Turkish Nut Cookies
DESCRIPTION:Tune in to learn from Ceyda Onaran Kartal\, a Turkish mechanical engineer passionate about cooking. Ceyda will guide us in a cultural immersion using a classic Turkish dessert to guide the journey. The kalburabasti is a nut filled cookie\, drenched in a homemade syrup and enjoyed with an additional flurry of nuts on top. The session will introduce participants to every step of the process. Participants can choose to tune in live for fun or pre-register to receive the recipe so you can source the ingredients ahead and bake alongside us from the comfort of your home. Join our energetic host and learn a new recipe!
X-ALT-DESC;FMTTYPE=text/html:Tune in to learn from Ceyda Onaran Kartal\, a Turkish mechanical engineer passionate about cooking. Ceyda will guide us in a cultural immersion using a classic Turkish dessert to guide the journey. The kalburabasti is a nut filled cookie\, drenched in a homemade syrup and enjoyed with an additional flurry of nuts on top. The session will introduce participants to every step of the process. Participants can choose to tune in live for fun or pre-register to receive the recipe so you can source the ingredients ahead and bake alongside us from the comfort of your home. Join our energetic host and learn a new recipe!
LOCATION:The session will be filmed live from the Harvest Kitchen at the Extension Learning Farm and streamed onto Facebook.
UID:e.2288.10837
SEQUENCE:3
DTSTAMP:20260421T065247Z
URL:http://visitstl-gzcms.preview.gochambermaster.com/events/details/making-turkish-nut-cookies-10837
END:VEVENT

END:VCALENDAR
