BEGIN:VCALENDAR
VERSION:2.0
PRODID:-//ChamberMaster//Event Calendar 2.0//EN
METHOD:PUBLISH
X-PUBLISHED-TTL:P3D
REFRESH-INTERVAL:P3D
CALSCALE:GREGORIAN
BEGIN:VEVENT
DTSTART:20190525T140000Z
DTEND:20190525T220000Z
X-MICROSOFT-CDO-ALLDAYEVENT:FALSE
SUMMARY:Malone Comic Con
DESCRIPTION:*** GUESTS x EXHIBITS *** JG HERTZLER - Actor\, Star Trek Deep Space 9 SHAZAM (cosplayer: Andrew Knowles) The Outer Rim - A Science Fiction Anthology Webseries ECTO 1 Stunt Car *** EVENTS *** Chimera Cosplay Contest for Ages 16+ with $500 Dollar Cash Prize and TOP 5 Advance to Upstate Comic Con's Day 2 Finalist event. Best in Show Cosplay at Malone Comic Con (2 groups\, Ages 0 - 13\, Ages 12 and up) *** PANELS *** Working on "Escape at Dannamora" - panelist discuss their experience with filming with Red Hour Films on the Showtime Docu-series. The Outer Rim Series - A screening and discussion of the original series The Outer Rim\, developed in Vermont. Q/A with JG Hertzler ----more panels to come *** Dealer's Room *** List of vendors beginning May 17th *** TICKETS *** Children FIVE AND UNDER are FREE Students (up to 18)/Seniors (65+)/Vets+Mil: $4 Dollars/$5 At the Door Adults: $8 Dollars/$10 at the Door Buy Online: https://squareup.com/store/malone-comic-con Fees may apply for photo ops\, raffles\, contests\, and autographs. Thank you to our sponsors: Mountain Lake PBS\, Immortal Phoenix Studios\, Cordes Software\, Taylor Rental Plattsburgh\, Party Plus
X-ALT-DESC;FMTTYPE=text/html:*** GUESTS x EXHIBITS *** JG HERTZLER - Actor\, Star Trek Deep Space 9 SHAZAM (cosplayer: Andrew Knowles) The Outer Rim - A Science Fiction Anthology Webseries ECTO 1 Stunt Car *** EVENTS *** Chimera Cosplay Contest for Ages 16+ with $500 Dollar Cash Prize and TOP 5 Advance to Upstate Comic Con&#39\;s Day 2 Finalist event. Best in Show Cosplay at Malone Comic Con (2 groups\, Ages 0 - 13\, Ages 12 and up) *** PANELS *** Working on &quot\;Escape at Dannamora&quot\; - panelist discuss their experience with filming with Red Hour Films on the Showtime Docu-series. The Outer Rim Series - A screening and discussion of the original series The Outer Rim\, developed in Vermont. Q/A with JG Hertzler ----more panels to come *** Dealer&#39\;s Room *** List of vendors beginning May 17th *** TICKETS *** Children FIVE AND UNDER are FREE Students (up to 18)/Seniors (65+)/Vets+Mil: $4 Dollars/$5 At the Door Adults: $8 Dollars/$10 at the Door Buy Online: https://squareup.com/store/malone-comic-con Fees may apply for photo ops\, raffles\, contests\, and autographs. Thank you to our sponsors: Mountain Lake PBS\, Immortal Phoenix Studios\, Cordes Software\, Taylor Rental Plattsburgh\, Party Plus
LOCATION:Franklin Academy High School 42 Huskie Lane Malone\, NY 12953
UID:e.2288.8097
SEQUENCE:3
DTSTAMP:20260426T012658Z
URL:http://visitstl-gzcms.preview.gochambermaster.com/events/details/malone-comic-con-8097
END:VEVENT

END:VCALENDAR
