BEGIN:VCALENDAR
VERSION:2.0
PRODID:-//ChamberMaster//Event Calendar 2.0//EN
METHOD:PUBLISH
X-PUBLISHED-TTL:P3D
REFRESH-INTERVAL:P3D
CALSCALE:GREGORIAN
BEGIN:VEVENT
DTSTART:20240605T220000Z
DTEND:20240605T233000Z
X-MICROSOFT-CDO-ALLDAYEVENT:FALSE
SUMMARY:Managing Wildlife in the Garden Workshop
DESCRIPTION:MANAGING WILDLIFE IN THE GARDEN WORKSHOP\n\nKen Kogut is a retired NY DEC Natural Resource Supervisor and Wildlife Biologist\, having worked in various roles throughout Northern New York. With a bachelor's degree in Forest Biology and a master's in Wildlife Management\, he knows all about the wild animals that attempt to share in our garden harvests! He also know about the rules governing how those animals can be managed and what methods are most effective. A Master Gardener Volunteer since 2014\, Ken now spends his time maintaining his garden\, berry patches\, and small orchard with a goal of living sustainably off his property. He particularly enjoys helping county residents solve their gardening issues\, writing short articles for gardeners\, and teaching new gardeners.
X-ALT-DESC;FMTTYPE=text/html:<span style="font-size:20px\;"><strong>MANAGING WILDLIFE IN THE GARDEN WORKSHOP</strong></span><br />\nKen Kogut is a retired NY DEC Natural Resource Supervisor and Wildlife Biologist\, having worked in various roles throughout Northern New York. With a bachelor&#39\;s degree in Forest Biology and a master&#39\;s in Wildlife Management\, he knows all about the wild animals that attempt to share in our garden harvests! He also know about the rules governing how those animals can be managed and what methods are most effective. A Master Gardener Volunteer since 2014\, Ken now spends his time maintaining his garden\, berry patches\, and small orchard with a goal of living sustainably off his property. He particularly enjoys helping county residents solve their gardening issues\, writing short articles for gardeners\, and teaching new gardeners.
LOCATION:Cornell Cooperative Extension of St. Lawrence County 2043B State Highway 68 Canton\, NY 13617
UID:e.2288.17911
SEQUENCE:3
DTSTAMP:20260422T020225Z
URL:http://visitstl-gzcms.preview.gochambermaster.com/events/details/managing-wildlife-in-the-garden-workshop-17911
END:VEVENT

END:VCALENDAR
