BEGIN:VCALENDAR
VERSION:2.0
PRODID:-//ChamberMaster//Event Calendar 2.0//EN
METHOD:PUBLISH
X-PUBLISHED-TTL:P3D
REFRESH-INTERVAL:P3D
CALSCALE:GREGORIAN
BEGIN:VEVENT
DTSTART:20210826T110000Z
DTEND:20210826T230000Z
X-MICROSOFT-CDO-ALLDAYEVENT:FALSE
SUMMARY:Massena Hospital Foundation’s 33rd annual golf tournament
DESCRIPTION:The Massena Hospital Foundation's 33rd annual golf tournament will be held Thursday\, Aug. 26\, at The River Course at Louisville Landing\, 829 County Route 131. The format will be Captain & Crew with men's\, women's and mixed divisions.\n\nRegistration from 7 to 8 a.m.\, shotgun start at 8 a.m.\; registration for afternoon tee-off from noon to 1 p.m. with shotgun start at 1 p.m.\; cocktails from 5:30 to 6:30 p.m.\; buffet dinner at 6:30 p.m. with presentation of prizes and awards. The fee is $400 per four-person team that includes green fees\, cart\, tournament fees\, goody bags\, lunch and dinner.\n\nFor more information: call 315-769-4273 or 315-769-4602\n\n                                    email jfowler@masenahospital.org or jrose@masenahospital.org
X-ALT-DESC;FMTTYPE=text/html:<p style="box-sizing: border-box\; margin: 0px 0px 10px\; word-break: break-word\; width: unset\; float: none\; line-height: normal\; font-family: arial\, sans-serif\; font-size: 13px\; background-color: rgb(255\, 255\, 255)\;"><span style="font-size:18px\;">The Massena Hospital Foundation&rsquo\;s 33rd annual golf tournament will be held Thursday\, Aug. 26\, at The River Course at Louisville Landing\, 829 County Route 131. The format will be Captain &amp\; Crew with men&rsquo\;s\, women&rsquo\;s and mixed divisions.</span></p>\n\n<p style="box-sizing: border-box\; margin: 0px 0px 10px\; word-break: break-word\; width: unset\; float: none\; line-height: normal\; font-family: arial\, sans-serif\; font-size: 13px\; background-color: rgb(255\, 255\, 255)\;"><span style="font-size:18px\;">Registration from 7 to 8 a.m.\, shotgun start at 8 a.m.\; registration for afternoon tee-off from noon to 1 p.m. with shotgun start at 1 p.m.\; cocktails from 5:30 to 6:30 p.m.\; buffet dinner at 6:30 p.m. with presentation of prizes and awards. The fee is $400 per four-person team that includes green fees\, cart\, tournament fees\, goody bags\, lunch and dinner.</span></p>\n\n<p style="box-sizing: border-box\; margin: 0px 0px 10px\; word-break: break-word\; width: unset\; float: none\; line-height: normal\; font-family: arial\, sans-serif\; font-size: 13px\; background-color: rgb(255\, 255\, 255)\;"><span style="font-size:18px\;">For more information: call 315-769-4273 or 315-769-4602<br />\n&nbsp\; &nbsp\; &nbsp\; &nbsp\; &nbsp\; &nbsp\; &nbsp\; &nbsp\; &nbsp\; &nbsp\; &nbsp\; &nbsp\; &nbsp\; &nbsp\; &nbsp\; &nbsp\; &nbsp\; &nbsp\; email jfowler@masenahospital.org or&nbsp\;<span style="color: rgb(51\, 51\, 51)\; font-family: arial\, sans-serif\; background-color: rgb(255\, 255\, 255)\;">jrose@masenahospital.org</span></span></p>\n\n<div class="ad-container inner-page-ad-container " style="box-sizing: border-box\; float: right\; margin: 10px 0px 15px\; display: inline\; padding-left: 20px\; padding-top: 10px\; padding-bottom: 10px\; font-family: arial\, sans-serif\; font-size: 13px\; background-color: rgb(255\, 255\, 255)\;">\n<div data-ad-unit-path="/1045456/300x250Innoppl-testing" data-fetch="false" data-glade="" height="250" style="box-sizing: border-box\;" width="300">&nbsp\;</div>\n</div>\n
LOCATION:The River Course at Louisville Landing\, 829 County Route 131
UID:e.2288.10688
SEQUENCE:3
DTSTAMP:20260421T223426Z
URL:http://visitstl-gzcms.preview.gochambermaster.com/events/details/massena-hospital-foundation-s-33rd-annual-golf-tournament-10688
END:VEVENT

END:VCALENDAR
