BEGIN:VCALENDAR
VERSION:2.0
PRODID:-//ChamberMaster//Event Calendar 2.0//EN
METHOD:PUBLISH
X-PUBLISHED-TTL:P3D
REFRESH-INTERVAL:P3D
CALSCALE:GREGORIAN
BEGIN:VEVENT
DTSTART:20250315T150000Z
DTEND:20250315T170000Z
X-MICROSOFT-CDO-ALLDAYEVENT:FALSE
SUMMARY:Mending Workshop
DESCRIPTION:Mending Workshop with Ginny Burnett\n\nJoin master textile artist Ginny Burnett at SLC Arts and learn the basics of sewing and mending. Perfect for anyone interested in the art of sewing.
X-ALT-DESC;FMTTYPE=text/html:<span style="font-size:18px\;"><strong>Mending Workshop with Ginny Burnett</strong></span><br />\nJoin master textile artist Ginny Burnett at SLC Arts and learn the basics of sewing and mending. Perfect for anyone interested in the art of sewing.
LOCATION:Creative Spirit Community Arts Center 6-8 Raymond Street Potsdam\, NY 13676
UID:e.2288.19980
SEQUENCE:3
DTSTAMP:20260421T234024Z
URL:http://visitstl-gzcms.preview.gochambermaster.com/events/details/mending-workshop-19980
END:VEVENT

END:VCALENDAR
