BEGIN:VCALENDAR
VERSION:2.0
PRODID:-//ChamberMaster//Event Calendar 2.0//EN
METHOD:PUBLISH
X-PUBLISHED-TTL:P3D
REFRESH-INTERVAL:P3D
CALSCALE:GREGORIAN
BEGIN:VEVENT
DTSTART:20240711T160000Z
DTEND:20240711T170000Z
X-MICROSOFT-CDO-ALLDAYEVENT:FALSE
SUMMARY:Mobilizing Heritage for Impact
DESCRIPTION:MOBILIZING HERITAGE FOR IMPACT\n\nAround the world\, the word heritage describes things inherited from the past\, as well as legacies that will survive for the future. From a UNESCO site in Greenland to parks in Western New York\, Dr. Kathryn Grow Allen will be sharing her efforts with different types of heritage. Through projects designed to reveal history\, communicate science\, and spark change\, her work shows how heritage projects can strengthen communities. By sharing them\, Katie hopes to engage in a discussion on how similar projects could be mobilized in the North Country.\n\n\n\nHosted by: SLC Center for History and Culture
X-ALT-DESC;FMTTYPE=text/html:<span style="font-size:20px\;"><strong>MOBILIZING HERITAGE FOR IMPACT</strong></span><br />\nAround the world\, the word heritage describes things inherited from the past\, as well as legacies that will survive for the future. From a UNESCO site in Greenland to parks in Western New York\, Dr. Kathryn Grow Allen will be sharing her efforts with different types of heritage. Through projects designed to reveal history\, communicate science\, and spark change\, her work shows how heritage projects can strengthen communities. By sharing them\, Katie hopes to engage in a discussion on how similar projects could be mobilized in the North Country.<br />\n<br />\nHosted by:&nbsp\;SLC Center for History and Culture
LOCATION:SLC Center for History and Culture 3 E Main Street\, Canton\, NY Hybrid Program: In-person at the county gallery at SLCCHC or email carlene@slcha.org for the Zoom link.
UID:e.2288.18468
SEQUENCE:3
DTSTAMP:20260422T035012Z
URL:http://visitstl-gzcms.preview.gochambermaster.com/events/details/mobilizing-heritage-for-impact-18468
END:VEVENT

END:VCALENDAR
