BEGIN:VCALENDAR
VERSION:2.0
PRODID:-//ChamberMaster//Event Calendar 2.0//EN
METHOD:PUBLISH
X-PUBLISHED-TTL:P3D
REFRESH-INTERVAL:P3D
CALSCALE:GREGORIAN
BEGIN:VEVENT
DTSTART:20200123T130000Z
DTEND:20200123T143000Z
X-MICROSOFT-CDO-ALLDAYEVENT:FALSE
SUMMARY:Morning Buzz: Connections & Content to Inspire Your Work (January 2020)
DESCRIPTION:Join us for the\n\nMorning Buzz: Connections & Content \n\nto Inspire Your Work\n\n\nConnect with your fellow Chamber members and be inspired by our speaker. Jernabi will have plenty of locally roasted coffee\, tea\, and delicious scones from Sugar Valley Bakery to keep your "Morning Buzz" powered up for a strong start to your day.\n\n\n\n8am: Coffee\, Tea & Scones\n\n8:15-8:45: Speed Networking\n\n8:45-9:15: Featured Content:\n\n"Turn Overwhelmed into Organized"\n\nwith inspiration from Suzy McBroom\, Executive Assistant\n\nto the CEO of Frazer Computing\, Inc.\n\n\n\nRSVP Today: bit.ly/MorningBuzz2020\n\n \n\nParking: Island St. Lot is limited\, meters limited\, Main St. Lot or Prosh Lot are close by.\n\n\n\nAbout the Presenter\n\n\n\n\n\n\nSuzanne ("Suzy") McBroom is the Executive Assistant to the CEO at Frazer Computing\, Inc.\, a North-Country-based software company that serves over 21\,300 independent used auto dealerships nationwide. Her multitasking and organizational skills were honed during her previous experiences as the Executive Director of the St. Lawrence County Arts Council\, and as grades 7-12 English teacher in years gone by. Suzy is a life-long resident of the North Country who has spent decades volunteering in the non-profit sector. She enjoys working with people\, learning new things\, creating with fiber\, and walking through the woods.
X-ALT-DESC;FMTTYPE=text/html:<div style="text-align: center\;"><span style="font-size:14px\;">Join us for the</span></div>\n\n<div style="text-align: center\;"><strong><span style="font-size:18px\;"><span style="color: rgb(29\, 33\, 41)\; font-family: Helvetica\, Arial\, sans-serif\; white-space: pre-wrap\;">Morning Buzz: Connections &amp\; Content </span></span></strong></div>\n\n<div style="text-align: center\;"><strong><span style="font-size:18px\;"><span style="color: rgb(29\, 33\, 41)\; font-family: Helvetica\, Arial\, sans-serif\; white-space: pre-wrap\;">to Inspire Your Work</span></span></strong></div>\n<br style="color: rgb(29\, 33\, 41)\; font-family: Helvetica\, Arial\, sans-serif\; font-size: 14px\; white-space: pre-wrap\;" />\n<span style="color: rgb(29\, 33\, 41)\; font-family: Helvetica\, Arial\, sans-serif\; font-size: 14px\; white-space: pre-wrap\;">Connect with your fellow Chamber members and be inspired by our speaker. Jernabi will have plenty of locally roasted coffee\, tea\, and delicious scones from Sugar Valley Bakery to keep your &quot\;Morning Buzz&quot\; powered up for a strong start to your day.</span><br style="color: rgb(29\, 33\, 41)\; font-family: Helvetica\, Arial\, sans-serif\; font-size: 14px\; white-space: pre-wrap\;" />\n<br style="color: rgb(29\, 33\, 41)\; font-family: Helvetica\, Arial\, sans-serif\; font-size: 14px\; white-space: pre-wrap\;" />\n<span style="color: rgb(29\, 33\, 41)\; font-family: Helvetica\, Arial\, sans-serif\; font-size: 14px\; white-space: pre-wrap\;">8am: Coffee\, Tea &amp\; Scones</span><br style="color: rgb(29\, 33\, 41)\; font-family: Helvetica\, Arial\, sans-serif\; font-size: 14px\; white-space: pre-wrap\;" />\n<span style="color: rgb(29\, 33\, 41)\; font-family: Helvetica\, Arial\, sans-serif\; font-size: 14px\; white-space: pre-wrap\;">8:15-8:45: Speed Networking</span><br style="color: rgb(29\, 33\, 41)\; font-family: Helvetica\, Arial\, sans-serif\; font-size: 14px\; white-space: pre-wrap\;" />\n<span style="color: rgb(29\, 33\, 41)\; font-family: Helvetica\, Arial\, sans-serif\; font-size: 14px\; white-space: pre-wrap\;">8:45-9:15: Featured Content:</span>\n\n<div style="text-align: center\;"><span style="color: rgb(29\, 33\, 41)\; font-family: Helvetica\, Arial\, sans-serif\; font-size: 14px\; white-space: pre-wrap\;">&quot\;Turn Overwhelmed into Organized&quot\;</span><br />\n<span class="text_exposed_show" style="display: inline\; font-family: Helvetica\, Arial\, sans-serif\; color: rgb(29\, 33\, 41)\; font-size: 14px\; white-space: pre-wrap\;">with inspiration from Suzy McBroom\, Executive Assistant<br />\nto the CEO of Frazer Computing\, Inc.</span></div>\n\n<p><br />\n<span class="text_exposed_show" style="display: inline\; font-family: Helvetica\, Arial\, sans-serif\; color: rgb(29\, 33\, 41)\; font-size: 14px\; white-space: pre-wrap\;">RSVP Today: <a data-lynx-mode="asynclazy" data-lynx-uri="https://l.facebook.com/l.php?u=https%3A%2F%2Fbit.ly%2FMorningBuzz2020%3Ffbclid%3DIwAR0mj1z97o_gJcE-zAB3h4I_9I6ltuQxAHchzkzj9LUvyYLxQlSt8oEhQbo&amp\;h=AT0cI8r8xJRnjpcveBSu4ORxhB_ENfLtCLCwMqI2SCnDh8ZQaB0PK_rQb-JmexBe5UoUwVGLGdu1HZrJ8lOAT_KPXcbeuOqOmI0GRdgPUi6J_zDSxXMoyZxKfOLIvLlFcOE" href="https://bit.ly/MorningBuzz2020?fbclid=IwAR0mj1z97o_gJcE-zAB3h4I_9I6ltuQxAHchzkzj9LUvyYLxQlSt8oEhQbo" rel="nofollow noopener" style="color: rgb(56\, 88\, 152)\; cursor: pointer\; text-decoration-line: none\; font-family: inherit\;" target="_blank"><font color="#385898" face="inherit"><span style="cursor: pointer\;">bit.ly/MorningBuzz2020</span></font></a></span></p>\n\n<p>&nbsp\;</p>\n\n<p><span class="text_exposed_show" style="display: inline\; font-family: Helvetica\, Arial\, sans-serif\; font-size: 14px\; white-space: pre-wrap\;"><font face="inherit" style="color: rgb(56\, 88\, 152)\; cursor: pointer\; text-decoration-line: none\; font-family: inherit\;"><span style="cursor: pointer\;"><strong><span style="color:#000000\;">Parking</span></strong></span></font></span><span class="text_exposed_show" style="display: inline\; font-family: Helvetica\, Arial\, sans-serif\; color: rgb(29\, 33\, 41)\; font-size: 14px\; white-space: pre-wrap\;"><font color="#385898" face="inherit" style="color: rgb(56\, 88\, 152)\; cursor: pointer\; text-decoration-line: none\; font-family: inherit\;"><span style="cursor: pointer\;"><strong>: </strong></span></font></span><span style="color: rgb(0\, 0\, 0)\; font-family: Arial\, Helvetica\, sans-serif\; font-size: small\;">Island St. Lot is limited\, meters limited\, Main St. Lot or Prosh Lot are close by.</span><br />\n<br />\n<span class="text_exposed_show" style="display: inline\; font-family: Helvetica\, Arial\, sans-serif\; color: rgb(29\, 33\, 41)\; font-size: 14px\; white-space: pre-wrap\;"><strong>About the Presenter</strong></span></p>\n\n<div class="gs" style="margin: 0px\; padding: 0px 0px 20px\; width: 1380px\; font-family: Roboto\, RobotoDraft\, Helvetica\, Arial\, sans-serif\; background-color: rgb(255\, 255\, 255)\;">\n<div>\n<div class="ii gt" id=":1jp" style="font-size: 0.875rem\; direction: ltr\; margin: 8px 0px 0px\; padding: 0px\; position: relative\;">\n<div class="a3s aXjCH " id=":3eq" style="overflow: hidden\; font-variant-numeric: normal\; font-variant-east-asian: normal\; font-stretch: normal\; font-size: small\; line-height: 1.5\; font-family: Arial\, Helvetica\, sans-serif\;">\n<div dir="ltr">\n<div dir="ltr"><span id="m_-624423535553510250gmail-docs-internal-guid-c1261a68-7fff-a9ec-6493-0618571e89d7"><span style="font-size: 11pt\; font-family: Arial\; background-color: transparent\; font-variant-numeric: normal\; font-variant-east-asian: normal\; vertical-align: baseline\; white-space: pre-wrap\;">Suzanne (&ldquo\;Suzy&rdquo\;) McBroom is the Executive Assistant to the CEO at Frazer Computing\, Inc.\, a North-Country-based software company that serves over 21\,300 independent used auto dealerships nationwide. Her multitasking and organizational skills were honed during her previous experiences as the Executive Director of the St. Lawrence County Arts Council\, and as grades 7-12 English teacher in years gone by. Suzy is a life-long resident of the North Country who has spent decades volunteering in the non-profit sector. She enjoys working with people\, learning new things\, creating with fiber\, and walking through the woods.</span></span>\n\n<div class="yj6qo">&nbsp\;</div>\n\n<div class="adL">&nbsp\;</div>\n</div>\n</div>\n</div>\n</div>\n</div>\n</div>\n
LOCATION:Jernabi Coffeehouse 11 Maple St Potsdam\, NY 13676
UID:e.2288.8773
SEQUENCE:3
DTSTAMP:20260425T005213Z
URL:http://visitstl-gzcms.preview.gochambermaster.com/events/details/morning-buzz-connections-content-to-inspire-your-work-january-2020-8773
END:VEVENT

END:VCALENDAR
