BEGIN:VCALENDAR
VERSION:2.0
PRODID:-//ChamberMaster//Event Calendar 2.0//EN
METHOD:PUBLISH
X-PUBLISHED-TTL:P3D
REFRESH-INTERVAL:P3D
CALSCALE:GREGORIAN
BEGIN:VEVENT
DTSTART:20210930T210000Z
DTEND:20210930T220000Z
X-MICROSOFT-CDO-ALLDAYEVENT:FALSE
SUMMARY:Music on Main\, Canton
DESCRIPTION:Live music along Main Street in Canton\, NY. Visit businesses\, order food and eat outside\, enjoy live music.
X-ALT-DESC;FMTTYPE=text/html:Live music along Main Street in Canton\, NY. Visit businesses\, order food and eat outside\, enjoy live music.&nbsp\;
LOCATION:along Main Street\, hosted by different businesses each week.
UID:e.2288.10745
SEQUENCE:3
DTSTAMP:20260421T232350Z
URL:http://visitstl-gzcms.preview.gochambermaster.com/events/details/music-on-main-canton-09-30-2021-10745
END:VEVENT

END:VCALENDAR
