BEGIN:VCALENDAR
VERSION:2.0
PRODID:-//ChamberMaster//Event Calendar 2.0//EN
METHOD:PUBLISH
X-PUBLISHED-TTL:P3D
REFRESH-INTERVAL:P3D
CALSCALE:GREGORIAN
BEGIN:VEVENT
DTSTART:20200923T130000Z
DTEND:20200923T200000Z
X-MICROSOFT-CDO-ALLDAYEVENT:FALSE
SUMMARY:National Small Business Week 3-Day Virtual Conference
DESCRIPTION:Hosted by the U.S. Small Business Administration\n\nAttend this free\, online conference to meet our 2020 small business winners from across the country\, learn new business strategies\, meet other business owners\, and talk with industry experts!\n\nEducational presentations and panel discussions that help both new and existing businesses to recover\, adapt\, and innovate in this challenging time.\n\n\n\nRegister here.
X-ALT-DESC;FMTTYPE=text/html:<span style="color: rgb(27\, 30\, 41)\; font-family: &quot\;Source Sans Pro&quot\;\, &quot\;Helvetica Neue&quot\;\, Helvetica\, Arial\, sans-serif\; font-size: 18px\; letter-spacing: -0.4px\;">Hosted by the U.S. Small Business Administration</span><br style="color: rgb(51\, 51\, 51)\; font-family: sans-serif\, Arial\, Verdana\, &quot\;Trebuchet MS&quot\;\; font-size: 13px\;" />\n<span style="color: rgb(27\, 30\, 41)\; font-family: &quot\;Source Sans Pro&quot\;\, &quot\;Helvetica Neue&quot\;\, Helvetica\, Arial\, sans-serif\; font-size: 18px\; letter-spacing: -0.4px\;">Attend this free\, online conference to meet our 2020 small business winners from across the country\, learn new business strategies\, meet other business owners\, and talk with industry experts!</span><br style="color: rgb(51\, 51\, 51)\; font-family: sans-serif\, Arial\, Verdana\, &quot\;Trebuchet MS&quot\;\; font-size: 13px\;" />\n<em style="box-sizing: inherit\; color: rgb(27\, 30\, 41)\; font-family: &quot\;Source Sans Pro&quot\;\, &quot\;Helvetica Neue&quot\;\, Helvetica\, Arial\, sans-serif\; font-size: 18px\; letter-spacing: -0.4px\;">Educational presentations and panel discussions that help both new and existing businesses to recover\, adapt\, and innovate in this challenging time.</em><br style="color: rgb(51\, 51\, 51)\; font-family: sans-serif\, Arial\, Verdana\, &quot\;Trebuchet MS&quot\;\; font-size: 13px\;" />\n<br style="color: rgb(51\, 51\, 51)\; font-family: sans-serif\, Arial\, Verdana\, &quot\;Trebuchet MS&quot\;\; font-size: 13px\;" />\n<a href="https://onlinexperiences.com/scripts/Server.nxp?LASCmd=AI:4\;F:QS!10100&amp\;ShowKey=110126" style="color: rgb(88\, 172\, 239)\; box-sizing: inherit\; cursor: pointer\; text-decoration-skip-ink: auto\; transition: color 150ms ease 0s\; outline: rgb(197\, 197\, 197) dotted 2px\; outline-offset: 3px\; font-family: &quot\;Source Sans Pro&quot\;\, &quot\;Helvetica Neue&quot\;\, Helvetica\, Arial\, sans-serif\; font-size: 18px\; letter-spacing: -0.4px\;" target="_blank">Register here</a><span style="color: rgb(27\, 30\, 41)\; font-family: &quot\;Source Sans Pro&quot\;\, &quot\;Helvetica Neue&quot\;\, Helvetica\, Arial\, sans-serif\; font-size: 18px\; letter-spacing: -0.4px\;">.</span>
LOCATION:On Line
UID:e.2288.9908
SEQUENCE:3
DTSTAMP:20260423T193119Z
URL:http://visitstl-gzcms.preview.gochambermaster.com/events/details/national-small-business-week-3-day-virtual-conference-9908
END:VEVENT

END:VCALENDAR
