BEGIN:VCALENDAR
VERSION:2.0
PRODID:-//ChamberMaster//Event Calendar 2.0//EN
METHOD:PUBLISH
X-PUBLISHED-TTL:P3D
REFRESH-INTERVAL:P3D
CALSCALE:GREGORIAN
BEGIN:VEVENT
DTSTART:20210722T203000Z
DTEND:20210722T220000Z
X-MICROSOFT-CDO-ALLDAYEVENT:FALSE
SUMMARY:Nature & Networking
DESCRIPTION:Join us for an in-person networking opportunity!\n\nThe St. Lawrence County Chamber of Commerce and the St. Lawrence County Industrial Development Agency are hosting the next "Nature & Networking" event\n\nat the Gouverneur Community Center at 4:30pm on Thursday\, July 22nd!\n\nAt 4:30\, attendees may join a small group 'walk & talk' or stay behind at the Community Center.\n\nThe Networking Program will then begin at 5:00\, focusing on employee retention and provide an opportunity for businesses to share thoughts\, strategies\, and best practices in an open discussion.\n\nAmazing door prizes\, appetizers\, and a cash bar will be provided!
X-ALT-DESC;FMTTYPE=text/html:<p _mce_style="text-align: center\;" align="center" style="margin: 0px 0px 18px\; padding: 0px\; font-family: Arial\, Helvetica\, sans-serif\; font-size: 12px\; text-align: center\;"><span style="font-size:16px\;">Join us for an in-person&nbsp\;networking opportunity!<br />\nThe St. Lawrence County Chamber of Commerce and the St. Lawrence County Industrial Development Agency are hosting the next &ldquo\;Nature &amp\; Networking&quot\; event<br />\nat the Gouverneur Community Center at 4:30pm on Thursday\, July 22nd!</span></p>\n\n<p _mce_style="text-align: center\;" align="center" style="margin: 0px 0px 18px\; padding: 0px\; font-family: Arial\, Helvetica\, sans-serif\; font-size: 12px\; text-align: center\;"><span style="font-size:16px\;">At 4:30\, attendees may join a small group &#39\;walk &amp\; talk&#39\; or&nbsp\;stay behind at the Community Center.<br />\nThe Networking Program will then begin at 5:00\, focusing on employee retention and provide an opportunity for businesses to share thoughts\, strategies\, and best practices in an open discussion.</span></p>\n\n<p _mce_style="text-align: center\;" align="center" style="margin: 0px 0px 18px\; padding: 0px\; font-family: Arial\, Helvetica\, sans-serif\; font-size: 12px\; text-align: center\;"><span style="font-size:16px\;"><span _mce_style="text-align: left\;" style="text-align: left\;">Amazing door prizes\, appetizers\, and a cash bar will be provided!</span></span></p>\n
LOCATION:Gouverneur Community Center 4673 NY-58 Gouverneur\, NY 13642
UID:e.2288.10553
SEQUENCE:3
DTSTAMP:20260422T013950Z
URL:http://visitstl-gzcms.preview.gochambermaster.com/events/details/nature-networking-10553
END:VEVENT

END:VCALENDAR
