BEGIN:VCALENDAR
VERSION:2.0
PRODID:-//ChamberMaster//Event Calendar 2.0//EN
METHOD:PUBLISH
X-PUBLISHED-TTL:P3D
REFRESH-INTERVAL:P3D
CALSCALE:GREGORIAN
BEGIN:VEVENT
DTSTART:20210922T203000Z
DTEND:20210922T220000Z
X-MICROSOFT-CDO-ALLDAYEVENT:FALSE
SUMMARY:Nature & Networking in Massena
DESCRIPTION:Register HERE (Space is limited)\n\n \nJoin us for an in-person\, outdoor networking opportunity! The St. Lawrence County Chamber of Commerce and the St. Lawrence County Industrial Development Agency are hosting the next "Nature & Networking" event at the River Course at Louisville Landing at 4:30pm on Wednesday\, September 22nd!\n\nAt 4:30\, attendees may join a small group 'walk & talk' or stay at the clubhouse. The Networking Program will then begin at 5:00\, focusing on employee recruitment and retention and provide an opportunity for businesses to share thoughts in an open discussion.\n\nDoor prizes\, Appetizers\, and a Cash Bar will be provided!\n\nA $5 Fee (cash or check) is requested at the door.\n\nQuestions? Contact STLC Chamber Executive Director Ben Dixon at Ben@slcchamber.org or call (315) 386-4000.
X-ALT-DESC;FMTTYPE=text/html:<div style="color: rgb(34\, 34\, 34)\; font-family: Arial\, Helvetica\, sans-serif\; font-size: small\; background-color: rgb(255\, 255\, 255)\;"><span style="font-family:arial\;">Register <strong><a href="https://events.r20.constantcontact.com/register/eventReg?oeidk=a07eigiu05qfd4c6639&amp\;oseq=&amp\;c=&amp\;ch=">HERE</a></strong> (Space is limited)</span><br />\n&nbsp\;\n<p align="center" style="margin: 0px 0px 18px\; padding: 0px\; font-family: Arial\, Helvetica\, sans-serif\; font-size: 12px\; background-color: rgb(246\, 246\, 246)\; text-align: center\;"><span style="font-size: 14pt\;" title="">Join us for an in-person\, outdoor networking opportunity! The St. Lawrence County Chamber of Commerce and the St. Lawrence County Industrial Development Agency are hosting the next &ldquo\;Nature &amp\; Networking&quot\; event at the River Course at Louisville Landing at 4:30pm on Wednesday\, September 22nd!</span></p>\n\n<p align="center" style="margin: 0px 0px 18px\; padding: 0px\; font-family: Arial\, Helvetica\, sans-serif\; font-size: 12px\; background-color: rgb(246\, 246\, 246)\; text-align: center\;"><span style="font-size: 14pt\;" title="">At 4:30\, attendees may join a small group &#39\;walk &amp\; talk&#39\; or stay at the clubhouse. The Networking Program will then begin at 5:00\, focusing on employee recruitment and retention and provide an opportunity for businesses to share thoughts in an open discussion.</span></p>\n\n<p align="center" style="margin: 0px 0px 18px\; padding: 0px\; font-family: Arial\, Helvetica\, sans-serif\; font-size: 12px\; background-color: rgb(246\, 246\, 246)\; text-align: center\;"><span style="text-align: left\; font-size: 14pt\;" title="">Door prizes\, Appetizers\, and a Cash Bar will be provided!</span></p>\n\n<p align="center" style="margin: 0px 0px 18px\; padding: 0px\; font-family: Arial\, Helvetica\, sans-serif\; font-size: 12px\; background-color: rgb(246\, 246\, 246)\;"><span style="text-align: left\; font-size: 14pt\;" title="">A $5 Fee (cash or check) is requested at the door.</span></p>\n\n<p align="center" style="margin: 0px 0px 18px\; padding: 0px\; font-family: Arial\, Helvetica\, sans-serif\; font-size: 12px\; background-color: rgb(246\, 246\, 246)\;"><span style="font-size: 14pt\;" title=""><span style="text-align: left\;" title="">Questions? Contact STLC Chamber Executive Director Ben Dixon at&nbsp\;</span><a href="mailto:Ben@slcchamber.org" style="color: rgb(0\, 120\, 193)\; outline: 0px\; text-align: left\;">Ben@slcchamber.org</a><span style="text-align: left\;" title="">&nbsp\;or call (315) 386-4000.</span></span></p>\n\n<div class="yj6qo ajU" style="cursor: pointer\; outline: none\; padding: 10px 0px\; width: 22px\; margin: 2px 0px 0px\; color: rgb(34\, 34\, 34)\; font-family: Arial\, Helvetica\, sans-serif\; font-size: small\; background-color: rgb(255\, 255\, 255)\;">&nbsp\;</div>\n</div>\n
LOCATION:The River Course at Louisville Landing 829 State Highway 131\, Massena\, NY 13662
UID:e.2288.10699
SEQUENCE:3
DTSTAMP:20260421T125908Z
URL:http://visitstl-gzcms.preview.gochambermaster.com/events/details/nature-networking-in-massena-10699
END:VEVENT

END:VCALENDAR
