BEGIN:VCALENDAR
VERSION:2.0
PRODID:-//ChamberMaster//Event Calendar 2.0//EN
METHOD:PUBLISH
X-PUBLISHED-TTL:P3D
REFRESH-INTERVAL:P3D
CALSCALE:GREGORIAN
BEGIN:VEVENT
DTSTART:20191212T233000Z
DTEND:20191213T010000Z
X-MICROSOFT-CDO-ALLDAYEVENT:FALSE
SUMMARY:Nature Photography Club
DESCRIPTION:For anyone intersted in Nature Photography\, all levels welcome.  Monthly challenges and share photos\, techniques and tips.  Funded by the NY Power Authority
X-ALT-DESC;FMTTYPE=text/html:<span style="font-size:16px\;"><span style="font-family:arial\;">For anyone intersted in Nature Photography\, all levels welcome.&nbsp\; Monthly challenges and share photos\, techniques and tips.&nbsp\; Funded by the NY Power Authority</span></span>
LOCATION:Nicandri Nature Center 19 Robinson Bay Rd\, Massena\, NY
UID:e.2288.8330
SEQUENCE:3
DTSTAMP:20260425T104413Z
URL:http://visitstl-gzcms.preview.gochambermaster.com/events/details/nature-photography-club-12-12-2019-8330
END:VEVENT

END:VCALENDAR
