BEGIN:VCALENDAR
VERSION:2.0
PRODID:-//ChamberMaster//Event Calendar 2.0//EN
METHOD:PUBLISH
X-PUBLISHED-TTL:P3D
REFRESH-INTERVAL:P3D
CALSCALE:GREGORIAN
BEGIN:VEVENT
DTSTART:20240405T220000Z
DTEND:20240406T000000Z
X-MICROSOFT-CDO-ALLDAYEVENT:FALSE
SUMMARY:Nick Rycroft performs at Bregg Winery (Norfolk\, NY)
DESCRIPTION:NICK RYCROFT PERFORMANCE\n\nBREGG WINERY: NORFOLK\, NY\n\nKick off your weekend celebrations for the 2024 Total Solar Eclipse with local wine and live music at Bregg Winery in Norfolk\, NY! St. Lawrence County musician\, Nick Rycroft will be playing North Country Americana\, folk and a little bit of country on Friday\, April 5th from 6:00pm - 8:00pm. For updates\, check out Bregg Winery's Facebook Page HERE.
X-ALT-DESC;FMTTYPE=text/html:<span style="font-size:20px\;"><strong>NICK RYCROFT PERFORMANCE</strong></span><br />\n<span style="font-size:20px\;">BREGG WINERY: NORFOLK\, NY</span><br />\nKick off your weekend celebrations for the 2024 Total Solar Eclipse with local wine and live music at Bregg Winery in Norfolk\, NY! St. Lawrence County musician\, Nick Rycroft will be playing North Country Americana\, folk and a little bit of country on Friday\, April 5th from 6:00pm - 8:00pm. For updates\, check out Bregg Winery&#39\;s Facebook Page <a href="https://www.facebook.com/BreggWinery/" target="_blank">HERE</a>.
LOCATION:Bregg Winery 56 West Main St Norfolk\, NY
UID:e.2288.16867
SEQUENCE:3
DTSTAMP:20260422T020106Z
URL:http://visitstl-gzcms.preview.gochambermaster.com/events/details/nick-rycroft-performs-at-bregg-winery-norfolk-ny-16867
END:VEVENT

END:VCALENDAR
